Felt | Verdi |
AlreadyApplied | True |
Aperture | 11.0 |
ApertureValue | 11.0 |
ApproximateFocusDistance | 4294967295 |
Artist | Astrid Farestveit Selsvold |
AutoLateralCA | 0 |
AutoWhiteVersion | 134348800 |
BitsPerSample | 8 |
Blacks2012 | +18 |
BlueHue | 0 |
BlueSaturation | 0 |
By-line | Astrid Farestveit Selsvold |
CameraProfile | Adobe Standard |
CircleOfConfusion | 0.024 mm |
Clarity2012 | +29 |
ColorComponents | 3 |
ColorNoiseReduction | 25 |
ColorNoiseReductionDetail | 50 |
ColorNoiseReductionSmoothness | 50 |
ColorTemperature | 4419 |
ColorTransform | YCbCr |
Contrast2012 | +2 |
ConvertToGrayscale | False |
Copyright | (c) Astrid Farestveit Selsvold |
CopyrightFlag | True |
CopyrightNotice | (c) Astrid Farestveit Selsvold |
CreateDate (1) | 2014:06:05 15:36:36.66 |
CreateDate | 2014:06:05 15:36:36 |
Creator | Astrid Farestveit Selsvold |
CreatorAddress | Skulevegen 7 |
CreatorCity | Ã…lvik |
CreatorCountry | Norway |
CreatorPostalCode | 5614 |
CreatorTool | Adobe Photoshop Lightroom 5.4 (Windows) |
CreatorWorkEmail | astrid.selsvold@kvamnet.no |
CreatorWorkTelephone | 004799101474 |
CropAngle | -1.00787 |
CropBottom | 0.902353 |
CropConstrainToWarp | 0 |
CropLeft | 0.082332 |
CropRight | 0.910618 |
CropTop | 0.13059 |
CustomRendered | Normal |
DateCreated (1) | 2014:06:05 |
DateCreated | 2014:06:05 15:36:36.66 |
DateTimeOriginal | 2014:06:05 15:36:36 |
DefringeGreenAmount | 0 |
DefringeGreenHueHi | 60 |
DefringeGreenHueLo | 40 |
DefringePurpleAmount | 0 |
DefringePurpleHueHi | 70 |
DefringePurpleHueLo | 30 |
DOF | inf (3.82 m - inf) |
Exposure2012 | +1.05 |
ExposureCompensation | 0 |
ExposureMode | Auto |
ExposureProgram | Aperture-priority AE |
ExposureTime | 1/160 |
Firmware | 1.1.3 |
Flash | Off, Did not fire |
FlashCompensation | 0 |
FNumber | 11.0 |
FocalLength | 32.0 mm |
FocalLength35efl | 32.0 mm (35 mm equivalent: 39.4 mm) |
Format | image/jpeg |
FOV | 49.1 deg |
GradientBasedCorrActive | true |
GradientBasedCorrAmount | 1.000000 |
GradientBasedCorrBrightness | 0.000000 |
GradientBasedCorrClarity2012 | 0.149610 |
GradientBasedCorrContrast2012 | 0.023620 |
GradientBasedCorrDefringe | 0.000000 |
GradientBasedCorrExposure2012 | -0.496000 |
GradientBasedCorrHighlights2012 | 0.055120 |
GradientBasedCorrHue | 0.000000 |
GradientBasedCorrLuminanceNoise | 0.000000 |
GradientBasedCorrMaskFullX | 0.535486 |
GradientBasedCorrMaskFullY | 0.086422 |
GradientBasedCorrMaskValue | 1.000000 |
GradientBasedCorrMaskWhat | Mask/Gradient |
GradientBasedCorrMaskZeroX | 0.537642 |
GradientBasedCorrMaskZeroY | 0.270191 |
GradientBasedCorrMoire | 0.000000 |
GradientBasedCorrSaturation | 0.000000 |
GradientBasedCorrShadows2012 | 0.000000 |
GradientBasedCorrSharpness | 0.243240 |
GradientBasedCorrTemperature | -0.086610 |
GradientBasedCorrTint | 0.000000 |
GradientBasedCorrWhat | Correction |
GrainAmount | 0 |
GreenHue | 0 |
GreenSaturation | 0 |
HasCrop | True |
HasSettings | True |
Highlights2012 | 0 |
HueAdjustmentAqua | 0 |
HueAdjustmentBlue | 0 |
HueAdjustmentGreen | 0 |
HueAdjustmentMagenta | 0 |
HueAdjustmentOrange | 0 |
HueAdjustmentPurple | 0 |
HueAdjustmentRed | 0 |
HueAdjustmentYellow | 0 |
HyperfocalDistance | 3.82 m |
ImageHeight | 2171 |
ImageNumber | 0 |
ImageSize | 3362x2171 |
ImageWidth | 3362 |
ISO | 320 |
Lens | EF17-40mm f/4L USM |
LensID (1) | 231 |
LensID | Canon EF 17-40mm f/4L USM |
LensInfo | 17-40mm f/? |
LensManualDistortionAmount | 0 |
LensModel | EF17-40mm f/4L USM |
LensProfileEnable | 0 |
LensProfileSetup | LensDefaults |
LensSerialNumber | 0000000000 |
LightValue | 12.6 |
LuminanceAdjustmentAqua | 0 |
LuminanceAdjustmentBlue | 0 |
LuminanceAdjustmentGreen | 0 |
LuminanceAdjustmentMagenta | 0 |
LuminanceAdjustmentOrange | 0 |
LuminanceAdjustmentPurple | 0 |
LuminanceAdjustmentRed | 0 |
LuminanceAdjustmentYellow | 0 |
LuminanceNoiseReductionContrast | 69 |
LuminanceNoiseReductionDetail | 50 |
LuminanceSmoothing | 21 |
Make | Canon |
Marked | True |
MaxApertureValue | 4.0 |
Megapixels | 7.3 |
MeteringMode | Multi-segment |
Model | Canon EOS 6D |
ModifyDate (1) | 2014:06:07 22:13:55+02:00 |
ModifyDate | 2014:06:07 22:13:55 |
ParametricDarks | 0 |
ParametricHighlights | 0 |
ParametricHighlightSplit | 75 |
ParametricLights | 0 |
ParametricMidtoneSplit | 50 |
ParametricShadows | 0 |
ParametricShadowSplit | 25 |
PerspectiveAspect | 0 |
PerspectiveHorizontal | 0 |
PerspectiveRotate | 0.0 |
PerspectiveScale | 100 |
PerspectiveUpright | 0 |
PerspectiveVertical | 0 |
PostCropVignetteAmount | 0 |
ProcessVersion | 6.7 |
ProfileDescription | sRGB IEC61966-2.1 |
RecommendedExposureIndex | 320 |
RedHue | 0 |
RedSaturation | 0 |
Rights | (c) Astrid Farestveit Selsvold |
Saturation | 0 |
SaturationAdjustmentAqua | 0 |
SaturationAdjustmentBlue | 0 |
SaturationAdjustmentGreen | 0 |
SaturationAdjustmentMagenta | 0 |
SaturationAdjustmentOrange | 0 |
SaturationAdjustmentPurple | 0 |
SaturationAdjustmentRed | 0 |
SaturationAdjustmentYellow | 0 |
ScaleFactor35efl | 1.2 |
SceneCaptureType | Standard |
SensitivityType | Recommended Exposure Index |
SerialNumber | 053024014752 |
Shadows2012 | 0 |
ShadowTint | 0 |
SharpenDetail | 25 |
SharpenEdgeMasking | 0 |
SharpenRadius | +1.0 |
Sharpness | 41 |
ShutterSpeed | 1/160 |
ShutterSpeedValue | 1/160 |
Software | Adobe Photoshop Lightroom 5.4 (Windows) |
SplitToningBalance | 0 |
SplitToningHighlightHue | 0 |
SplitToningHighlightSaturation | 0 |
SplitToningShadowHue | 0 |
SplitToningShadowSaturation | 0 |
Tint | -29 |
ToneCurve | 0, 0, 255, 255 |
ToneCurveBlue | 0, 0, 255, 255 |
ToneCurveGreen | 0, 0, 255, 255 |
ToneCurveName | Linear |
ToneCurveName2012 | Linear |
ToneCurvePV2012 | 0, 0, 255, 255 |
ToneCurvePV2012Blue | 0, 0, 255, 255 |
ToneCurvePV2012Green | 0, 0, 255, 255 |
ToneCurvePV2012Red | 0, 0, 255, 255 |
ToneCurveRed | 0, 0, 255, 255 |
UsageTerms | No use of photo without permission from photographer |
Version | 8.4 |
Vibrance | +10 |
VignetteAmount | 0 |
WhiteBalance (1) | Custom |
WhiteBalance | Manual |
Whites2012 | 0 |