Felt | Verdi |
AlreadyApplied | True |
Aperture | 8.0 |
ApertureValue | 8.0 |
ApproximateFocusDistance | 17.8 |
AutoLateralCA | 1 |
AutoWhiteVersion | 134348800 |
BitsPerSample | 8 |
Blacks2012 | 0 |
BlueHue | 0 |
BlueSaturation | 0 |
CameraProfile | Adobe Standard |
CFAPattern | [Red,Green][Green,Blue] |
CircleOfConfusion | 0.030 mm |
Clarity2012 | +48 |
ColorComponents | 3 |
ColorNoiseReduction | 25 |
ColorNoiseReductionDetail | 50 |
ColorNoiseReductionSmoothness | 50 |
ColorSpace | sRGB |
ColorTemperature | 5450 |
ColorTransform | YCbCr |
Contrast | Normal |
Contrast2012 | +83 |
ConvertToGrayscale | True |
CreateDate (1) | 2016:06:26 13:00:08.74 |
CreateDate | 2016:06:26 13:00:08 |
CreatorTool | Adobe Photoshop Lightroom 6.6 (Macintosh) |
CropAngle | 0 |
CropBottom | 1 |
CropConstrainToWarp | 0 |
CropLeft | 0.027027 |
CropRight | 0.983312 |
CropTop | 0.043715 |
CustomRendered | Normal |
DateCreated (1) | 2016:06:26 |
DateCreated | 2016:06:26 13:00:08.74 |
DateTimeOriginal | 2016:06:26 13:00:08 |
Dehaze | 0 |
DigitalZoomRatio | 1 |
DOF | 25.85 m (11.67 - 37.52 m) |
Exposure2012 | 0.00 |
ExposureCompensation | 0 |
ExposureMode | Manual |
ExposureProgram | Manual |
ExposureTime | 1/50 |
Flash | Off, Did not fire |
FNumber | 8.0 |
FocalLength | 90.0 mm |
FocalLength35efl | 90.0 mm (35 mm equivalent: 90.0 mm) |
FocalLengthIn35mmFormat | 90 mm |
Format | image/jpeg |
FOV | 22.6 deg |
GainControl | None |
GrainAmount | 0 |
GrayMixerAqua | -17 |
GrayMixerBlue | +11 |
GrayMixerGreen | -27 |
GrayMixerMagenta | +4 |
GrayMixerOrange | -19 |
GrayMixerPurple | +17 |
GrayMixerRed | -10 |
GrayMixerYellow | -23 |
GreenHue | 0 |
GreenSaturation | 0 |
HasCrop | True |
HasSettings | True |
Highlights2012 | -56 |
HyperfocalDistance | 33.70 m |
ImageHeight | 3840 |
ImageNumber | 6742 |
ImageSize | 5752x3840 |
ImageWidth | 5752 |
ISO | 200 |
Lens | 24.0-105.0 mm f/4.0 |
LensID (1) | 138 |
LensID | Sigma 24-105mm F4 DG OS HSM |
LensInfo | 24-105mm f/4 |
LensManualDistortionAmount | 0 |
LensModel | 24.0-105.0 mm f/4.0 |
LensProfileChromaticAberrationScale | 100 |
LensProfileDistortionScale | 100 |
LensProfileEnable | 1 |
LensProfileFilename | NIKON CORPORATION (SIGMA 24-105mm F4 DG OS HSM A013) - RAW.lcp |
LensProfileName | Adobe (SIGMA 24-105mm F4 DG OS HSM A013, NIKON CORPORATION) |
LensProfileSetup | LensDefaults |
LensProfileVignettingScale | 100 |
LightSource | Unknown |
LightValue | 10.6 |
LuminanceSmoothing | 0 |
Make | NIKON CORPORATION |
MaxApertureValue | 4.0 |
Megapixels | 22.1 |
MeteringMode | Spot |
Model | NIKON D750 |
ModifyDate (1) | 2016:06:27 00:18:59+02:00 |
ModifyDate | 2016:06:27 00:18:59 |
ParametricDarks | 0 |
ParametricHighlights | 0 |
ParametricHighlightSplit | 75 |
ParametricLights | 0 |
ParametricMidtoneSplit | 50 |
ParametricShadows | 0 |
ParametricShadowSplit | 25 |
PerspectiveAspect | 0 |
PerspectiveHorizontal | 0 |
PerspectiveRotate | 0.0 |
PerspectiveScale | 100 |
PerspectiveUpright | 5 |
PerspectiveVertical | 0 |
PerspectiveX | 0.00 |
PerspectiveY | 0.00 |
PostCropVignetteAmount | -22 |
PostCropVignetteFeather | 50 |
PostCropVignetteHighlightContrast | 0 |
PostCropVignetteMidpoint | 50 |
PostCropVignetteRoundness | 0 |
PostCropVignetteStyle | 1 |
ProcessVersion | 6.7 |
ProfileDescription | sRGB IEC61966-2.1 |
Rating | 1 |
RedHue | 0 |
RedSaturation | 0 |
Saturation | Normal |
ScaleFactor35efl | 1.0 |
SceneCaptureType | Standard |
SceneType | Directly photographed |
SensingMethod | One-chip color area |
SensitivityType | Recommended Exposure Index |
SerialNumber | 6037270 |
Shadows2012 | +100 |
ShadowTint | 0 |
SharpenDetail | 25 |
SharpenEdgeMasking | 0 |
SharpenRadius | +1.0 |
Sharpness (1) | 25 |
Sharpness | Normal |
ShutterSpeed | 1/50 |
ShutterSpeedValue | 1/50 |
Software | Adobe Photoshop Lightroom 6.6 (Macintosh) |
SplitToningBalance | 0 |
SplitToningHighlightHue | 0 |
SplitToningHighlightSaturation | 0 |
SplitToningShadowHue | 0 |
SplitToningShadowSaturation | 0 |
SubjectDistanceRange | Unknown |
Tint | +6 |
ToneCurve | 0, 0, 255, 255 |
ToneCurveBlue | 0, 0, 255, 255 |
ToneCurveGreen | 0, 0, 255, 255 |
ToneCurveName | Linear |
ToneCurveName2012 | Linear |
ToneCurvePV2012 | 0, 0, 255, 255 |
ToneCurvePV2012Blue | 0, 0, 255, 255 |
ToneCurvePV2012Green | 0, 0, 255, 255 |
ToneCurvePV2012Red | 0, 0, 255, 255 |
ToneCurveRed | 0, 0, 255, 255 |
ToneMapStrength | 0 |
Version | 9.6 |
VignetteAmount | 0 |
WhiteBalance (1) | As Shot |
WhiteBalance | Auto |
Whites2012 | 0 |