Felt | Verdi |
AlreadyApplied | True |
Aperture | 3.5 |
ApertureValue | 3.5 |
ApproximateFocusDistance | 33.5 |
Artist | CATO HANSEN |
AutoLateralCA | 1 |
BitsPerSample | 8 |
Blacks2012 | -6 |
BlueHue | 0 |
BlueSaturation | 0 |
By-line | CATO HANSEN |
CameraProfile | Adobe Standard |
CFAPattern | [Red,Green][Green,Blue] |
CircleOfConfusion | 0.030 mm |
Clarity2012 | +6 |
ColorComponents | 3 |
ColorNoiseReduction | 25 |
ColorNoiseReductionDetail | 50 |
ColorNoiseReductionSmoothness | 50 |
ColorSpace | Uncalibrated |
ColorTemperature | 5546 |
ColorTransform | YCbCr |
Contrast | Normal |
Contrast2012 | +16 |
ConvertToGrayscale | False |
Copyright | CATO HANSEN |
CopyrightNotice | CATO HANSEN |
CreateDate (1) | 2020:08:29 17:56:01.51 |
CreateDate | 2020:08:29 17:56:01 |
Creator | CATO HANSEN |
CreatorTool | Adobe Photoshop Lightroom Classic 9.4 (Windows) |
CropAngle | -0.019501 |
CropBottom | 0.769642 |
CropConstrainToWarp | 0 |
CropLeft | 0.143386 |
CropRight | 0.847127 |
CropTop | 0.176978 |
CustomRendered | Custom |
DateCreated (1) | 2020:08:29 |
DateCreated | 2020:08:29 17:56:01.51 |
DateTimeOriginal | 2020:08:29 17:56:01 |
DefringeGreenAmount | 0 |
DefringeGreenHueHi | 60 |
DefringeGreenHueLo | 40 |
DefringePurpleAmount | 0 |
DefringePurpleHueHi | 70 |
DefringePurpleHueLo | 30 |
Dehaze | +2 |
DigitalZoomRatio | 1 |
DistortionCorrectionAlreadyApplied | True |
DOF | 99.06 m (19.51 - 118.57 m) |
Exposure2012 | +0.25 |
ExposureCompensation | -2/3 |
ExposureMode | Auto |
ExposureProgram | Aperture-priority AE |
ExposureTime | 1/1600 |
Flash | Off, Did not fire |
FNumber | 3.5 |
FocalLength | 70.0 mm |
FocalLength35efl | 70.0 mm (35 mm equivalent: 70.0 mm) |
FocalLengthIn35mmFormat | 70 mm |
Format | image/jpeg |
FOV | 28.8 deg |
GainControl | None |
GradientBasedCorrActive | true |
GradientBasedCorrAmount | 1.000000 |
GradientBasedCorrBrightness | 0.000000 |
GradientBasedCorrClarity2012 | 0.000000 |
GradientBasedCorrContrast2012 | 0.000000 |
GradientBasedCorrCorrectionRangeMaskColorAmount | 0.500000 |
GradientBasedCorrCorrectionRangeMaskDepthFeather | 0.500000 |
GradientBasedCorrCorrectionRangeMaskDepthMax | 1.000000 |
GradientBasedCorrCorrectionRangeMaskDepthMin | 0.000000 |
GradientBasedCorrCorrectionRangeMaskLumFeather | 0.500000 |
GradientBasedCorrCorrectionRangeMaskLumMax | 1.000000 |
GradientBasedCorrCorrectionRangeMaskLumMin | 0.170370 |
GradientBasedCorrCorrectionRangeMaskType | +2 |
GradientBasedCorrCorrectionRangeMaskVersion | +2 |
GradientBasedCorrDefringe | 0.000000 |
GradientBasedCorrExposure2012 | -0.075000 |
GradientBasedCorrHighlights2012 | -0.083330 |
GradientBasedCorrHue | 240.000000 |
GradientBasedCorrLocalBlacks2012 | 0.000000 |
GradientBasedCorrLocalDehaze | 0.138890 |
GradientBasedCorrLocalHue | 0.000000 |
GradientBasedCorrLocalTexture | 0.000000 |
GradientBasedCorrLocalWhites2012 | -0.305560 |
GradientBasedCorrLuminanceNoise | 0.000000 |
GradientBasedCorrMaskFullX (1) | 0.693556 |
GradientBasedCorrMaskFullX | 0.289531 |
GradientBasedCorrMaskFullY (1) | 0.268961 |
GradientBasedCorrMaskFullY | 0.232937 |
GradientBasedCorrMaskValue | 1.000000 |
GradientBasedCorrMaskWhat | Mask/Gradient |
GradientBasedCorrMaskZeroX (1) | 0.610493 |
GradientBasedCorrMaskZeroX | 0.363934 |
GradientBasedCorrMaskZeroY (1) | 0.517305 |
GradientBasedCorrMaskZeroY | 0.484011 |
GradientBasedCorrMoire | 0.000000 |
GradientBasedCorrSaturation | 0.000000 |
GradientBasedCorrShadows2012 | -0.541670 |
GradientBasedCorrSharpness | 0.000000 |
GradientBasedCorrTemperature | 0.000000 |
GradientBasedCorrTint | 0.000000 |
GradientBasedCorrWhat | Correction |
GrainAmount | 0 |
GreenHue | 0 |
GreenSaturation | 0 |
HasCrop | True |
HasSettings | True |
Highlights2012 | -49 |
HueAdjustmentAqua | 0 |
HueAdjustmentBlue | 0 |
HueAdjustmentGreen | 0 |
HueAdjustmentMagenta | 0 |
HueAdjustmentOrange | 0 |
HueAdjustmentPurple | 0 |
HueAdjustmentRed | 0 |
HueAdjustmentYellow | 0 |
HyperfocalDistance | 46.59 m |
ImageHeight | 2913 |
ImageNumber | 148616 |
ImageSize | 5179x2913 |
ImageWidth | 5179 |
ISO | 64 |
Keywords | 2020, august, landscape, lofoten, nature, nikon, seascape, september, summer |
LateralChromaticAberrationCorrectionAlreadyApplied | True |
Lens | TAMRON SP 24-70mm F2.8 Di VC USD A007N |
LensID (1) | 254 |
LensID | Tamron SP 24-70mm f/2.8 Di VC USD (A007) |
LensInfo | 24-70mm f/2.8 |
LensManualDistortionAmount | 0 |
LensModel | TAMRON SP 24-70mm F2.8 Di VC USD A007N |
LensProfileChromaticAberrationScale | 100 |
LensProfileDistortionScale | 100 |
LensProfileEnable | 1 |
LensProfileFilename | NIKON CORPORATION (TAMRON SP 24-70mm F_2.8 Di VC USD A007N) - RAW.lcp |
LensProfileIsEmbedded | False |
LensProfileName | Adobe (TAMRON SP 24-70mm F2.8 Di VC USD A007N, NIKON CORPORATION) |
LensProfileSetup | LensDefaults |
LensProfileVignettingScale | 100 |
LightSource | Unknown |
LightValue | 14.9 |
LookAmount | 0.890000 |
LookCluster | Adobe |
LookGroup | Vintage |
LookName | Vintage 06 |
LookParametersConvertToGrayscale | False |
LookParametersLookTable | E1095149FDB39D7A057BAB208837E2E1 |
LookParametersProcessVersion | 11.0 |
LookParametersRGBTable | D133EC539BB44CE73B8890C50B8D9F9E |
LookParametersRGBTableAmount | 0.5 |
LookParametersToneCurvePV2012 | 0, 29, 50, 56, 123, 136, 184, 194, 255, 233 |
LookParametersToneCurvePV2012Blue | 0, 0, 255, 255 |
LookParametersToneCurvePV2012Green | 0, 0, 255, 255 |
LookParametersToneCurvePV2012Red | 0, 0, 255, 255 |
LookParametersVersion | 12.4 |
LookSupportsMonochrome | false |
LuminanceAdjustmentAqua | 0 |
LuminanceAdjustmentBlue | 0 |
LuminanceAdjustmentGreen | 0 |
LuminanceAdjustmentMagenta | 0 |
LuminanceAdjustmentOrange | 0 |
LuminanceAdjustmentPurple | 0 |
LuminanceAdjustmentRed | 0 |
LuminanceAdjustmentYellow | 0 |
LuminanceSmoothing | 0 |
Make | NIKON CORPORATION |
MaxApertureValue | 2.8 |
Megapixels | 15.1 |
MeteringMode | Multi-segment |
Model | NIKON D810 |
ModifyDate (1) | 2020:10:18 20:25:56+02:00 |
ModifyDate | 2020:10:18 20:25:56 |
OverrideLookVignette | False |
PaintCorrectionActive | true |
PaintCorrectionAmount | 1.000000 |
PaintCorrectionBrightness | 0.000000 |
PaintCorrectionClarity2012 | 0.000000 |
PaintCorrectionContrast2012 | 0.000000 |
PaintCorrectionCorrectionRangeMaskColorAmount | 0.500000 |
PaintCorrectionCorrectionRangeMaskDepthFeather | 0.500000 |
PaintCorrectionCorrectionRangeMaskDepthMax | 1.000000 |
PaintCorrectionCorrectionRangeMaskDepthMin | 0.000000 |
PaintCorrectionCorrectionRangeMaskLumFeather | 0.500000 |
PaintCorrectionCorrectionRangeMaskLumMax | 1.000000 |
PaintCorrectionCorrectionRangeMaskLumMin | 0.000000 |
PaintCorrectionCorrectionRangeMaskType | 0 |
PaintCorrectionCorrectionRangeMaskVersion | +2 |
PaintCorrectionDefringe | 0.000000 |
PaintCorrectionExposure2012 (2) | 0.062500 |
PaintCorrectionExposure2012 | 0.000000 |
PaintCorrectionHighlights2012 (2) | 0.083330 |
PaintCorrectionHighlights2012 | 0.000000 |
PaintCorrectionHue | 240.000000 |
PaintCorrectionLocalBlacks2012 | 0.000000 |
PaintCorrectionLocalDehaze | 0.000000 |
PaintCorrectionLocalHue | 0.000000 |
PaintCorrectionLocalTexture | 0.000000 |
PaintCorrectionLocalWhites2012 (1) | 0.319440 |
PaintCorrectionLocalWhites2012 (2) | 0.486110 |
PaintCorrectionLocalWhites2012 | 0.458330 |
PaintCorrectionLuminanceNoise | 0.000000 |
PaintCorrectionMaskCenterWeight (2) | 0.140813 |
PaintCorrectionMaskCenterWeight | 0.166835 |
PaintCorrectionMaskFlow (4) | 0.634000 |
PaintCorrectionMaskFlow | 0.776000 |
PaintCorrectionMaskRadius (1) | 0.043778 |
PaintCorrectionMaskRadius (10) | 0.085987 |
PaintCorrectionMaskRadius (11) | 0.063992 |
PaintCorrectionMaskRadius (12) | 0.064013 |
PaintCorrectionMaskRadius (13) | 0.064120 |
PaintCorrectionMaskRadius (14) | 0.064251 |
PaintCorrectionMaskRadius (15) | 0.064126 |
PaintCorrectionMaskRadius (16) | 0.040987 |
PaintCorrectionMaskRadius (17) | 0.047114 |
PaintCorrectionMaskRadius (18) | 0.029424 |
PaintCorrectionMaskRadius (19) | 0.029682 |
PaintCorrectionMaskRadius (2) | 0.043774 |
PaintCorrectionMaskRadius (20) | 0.026814 |
PaintCorrectionMaskRadius (3) | 0.043782 |
PaintCorrectionMaskRadius (4) | 0.043850 |
PaintCorrectionMaskRadius (5) | 0.064419 |
PaintCorrectionMaskRadius (6) | 0.094057 |
PaintCorrectionMaskRadius (7) | 0.087197 |
PaintCorrectionMaskRadius (8) | 0.086239 |
PaintCorrectionMaskRadius (9) | 0.086041 |
PaintCorrectionMaskRadius | 0.026579 |
PaintCorrectionMaskValue (11) | 0.740000 |
PaintCorrectionMaskValue | 0.692000 |
PaintCorrectionMaskWhat | Mask/Paint |
PaintCorrectionMoire | 0.000000 |
PaintCorrectionSaturation | 0.000000 |
PaintCorrectionShadows2012 (1) | 0.000000 |
PaintCorrectionShadows2012 (2) | 0.388890 |
PaintCorrectionShadows2012 | 0.152780 |
PaintCorrectionSharpness | 0.000000 |
PaintCorrectionTemperature (1) | 0.069440 |
PaintCorrectionTemperature | 0.000000 |
PaintCorrectionTint | 0.000000 |
PaintCorrectionWhat | Correction |
ParametricDarks | 0 |
ParametricHighlights | 0 |
ParametricHighlightSplit | 75 |
ParametricLights | 0 |
ParametricMidtoneSplit | 50 |
ParametricShadows | 0 |
ParametricShadowSplit | 25 |
PerspectiveAspect | 0 |
PerspectiveHorizontal | 0 |
PerspectiveRotate | 0.0 |
PerspectiveScale | 100 |
PerspectiveUpright | 0 |
PerspectiveVertical | 0 |
PerspectiveX | 0.00 |
PerspectiveY | 0.00 |
PostCropVignetteAmount | -19 |
PostCropVignetteFeather | 50 |
PostCropVignetteHighlightContrast | 0 |
PostCropVignetteMidpoint | 4 |
PostCropVignetteRoundness | 0 |
PostCropVignetteStyle | 1 |
PreservedFileName | _CHA9351.NEF |
ProcessVersion | 11.0 |
ProfileDescription | Adobe RGB (1998) |
RangeMaskMapInfoRangeMaskMapInfoLabMax | 0.996841 0.505821 0.509850 |
RangeMaskMapInfoRangeMaskMapInfoLabMin | 0.000824 0.494926 0.472465 |
RangeMaskMapInfoRangeMaskMapInfoRGBMax | 0.555383 0.551125 0.544594 |
RangeMaskMapInfoRangeMaskMapInfoRGBMin | 0.000839 0.000885 0.000702 |
Rating | 2 |
RawFileName | _CHA9351.NEF |
RedHue | 0 |
RedSaturation | 0 |
Rights | CATO HANSEN |
Saturation (1) | -2 |
Saturation | Normal |
SaturationAdjustmentAqua | 0 |
SaturationAdjustmentBlue | 0 |
SaturationAdjustmentGreen | 0 |
SaturationAdjustmentMagenta | 0 |
SaturationAdjustmentOrange | 0 |
SaturationAdjustmentPurple | 0 |
SaturationAdjustmentRed | 0 |
SaturationAdjustmentYellow | 0 |
ScaleFactor35efl | 1.0 |
SceneCaptureType | Standard |
SceneType | Directly photographed |
SensingMethod | One-chip color area |
SensitivityType | Recommended Exposure Index |
SerialNumber | 6013221 |
Shadows2012 | +18 |
ShadowTint | 0 |
SharpenDetail | 25 |
SharpenEdgeMasking | 0 |
SharpenRadius | +1.0 |
Sharpness (1) | 40 |
Sharpness | Hard |
ShutterSpeed | 1/1600 |
ShutterSpeedValue | 1/1600 |
Software | Adobe Photoshop Lightroom Classic 9.4 (Windows) |
SplitToningBalance | 0 |
SplitToningHighlightHue | 0 |
SplitToningHighlightSaturation | 0 |
SplitToningShadowHue | 35 |
SplitToningShadowSaturation | 15 |
Subject | 2020, august, landscape, lofoten, nature, nikon, seascape, september, summer |
SubjectDistanceRange | Unknown |
Texture | +4 |
Tint | 0 |
ToneCurve | 0, 0, 255, 255 |
ToneCurveBlue | 0, 0, 255, 255 |
ToneCurveGreen | 0, 0, 255, 255 |
ToneCurveName | Linear |
ToneCurveName2012 | Linear |
ToneCurvePV2012 | 0, 0, 255, 255 |
ToneCurvePV2012Blue | 0, 0, 255, 255 |
ToneCurvePV2012Green | 0, 0, 255, 255 |
ToneCurvePV2012Red | 0, 0, 255, 255 |
ToneCurveRed | 0, 0, 255, 255 |
ToneMapStrength | 0 |
Version | 12.4 |
Vibrance | +12 |
VignetteAmount | 0 |
VignetteCorrectionAlreadyApplied | True |
WhiteBalance (1) | Custom |
WhiteBalance | Auto |
Whites2012 | +18 |