Felt | Verdi |
AlreadyApplied | True |
BitsPerSample | 8 |
BlueHue | 0 |
BlueSaturation | 0 |
Brightness | +26 |
By-line | Tim Alexander Øsleby |
CameraProfile | ACR 3.7 |
CFAPattern | [Red,Green][Green,Blue] |
ChromaticAberrationB | 0 |
ChromaticAberrationR | 0 |
CircleOfConfusion | 0.020 mm |
City | Stryn |
ColorComponents | 3 |
ColorNoiseReduction | 25 |
ColorTemperature | 5300 |
Contrast (2) | +25 |
Contrast | Normal |
ConvertToGrayscale | False |
Copyright | Tim Alexander Osleby |
CopyrightNotice | Tim Alexander Øsleby |
Country | Norge |
Country-PrimaryLocationName | Norge |
CreateDate | 2007:05:29 20:22:25 |
Creator | Tim Alexander Øsleby |
CreatorAddress | Eidsgata 41 |
CreatorCity | Nordfjordeid |
CreatorCountry | Norge |
CreatorPostalCode | 6770 |
CreatorRegion | |
CreatorTool | Adobe Photoshop Lightroom |
CreatorWorkEmail | ti-oes@online.no |
CreatorWorkTelephone | |
CropAngle | 0 |
CropBottom | 0.817185 |
CropHeight | 536 |
CropLeft | 0.093455 |
CropRight | 0.833857 |
CropTop | 0.076782 |
CropUnit | pixels |
CropWidth | 800 |
CustomRendered | Normal |
DateTimeDigitized | 2007:05:29 20:22:25+02:00 |
DateTimeOriginal (1) | 2007:05:29 20:22:25+02:00 |
DateTimeOriginal | 2007:05:29 20:22:25 |
Exposure | +0.33 |
ExposureCompensation | 0 |
ExposureMode | Manual |
ExposureProgram | Manual |
ExposureTime | 1/160 |
FillLight | 0 |
Flash | Off, Did not fire |
FlashFired | False |
FlashFunction | False |
FlashMode | Off |
FlashRedEyeMode | False |
FlashReturn | No return detection |
FocalLength | 500.0 mm |
FocalLength35efl | 500.0 mm (35 mm equivalent: 750.0 mm) |
FocalLengthIn35mmFormat | 750 mm |
FOV | 2.7 deg |
GreenHue | 0 |
GreenSaturation | 0 |
HasCrop | True |
HasSettings | True |
HighlightRecovery | 19 |
HueAdjustmentAqua | 0 |
HueAdjustmentBlue | 0 |
HueAdjustmentGreen | 0 |
HueAdjustmentMagenta | 0 |
HueAdjustmentOrange | 0 |
HueAdjustmentPurple | 0 |
HueAdjustmentRed | 0 |
HueAdjustmentYellow | 0 |
ImageHeight | 536 |
ImageSize | 800x536 |
ImageWidth | 800 |
ISO | 640 |
Keywords | utagga |
Label | Red |
Lens | K,M Lens |
LensID (1) | 1 0 |
LensID | K or M Lens |
Location | Markane |
LuminanceAdjustmentAqua | 0 |
LuminanceAdjustmentBlue | 0 |
LuminanceAdjustmentGreen | 0 |
LuminanceAdjustmentMagenta | 0 |
LuminanceAdjustmentOrange | 0 |
LuminanceAdjustmentPurple | 0 |
LuminanceAdjustmentRed | 0 |
LuminanceAdjustmentYellow | 0 |
LuminanceSmoothing | 0 |
Make | PENTAX Corporation |
Megapixels | 0.429 |
MeteringMode | Spot |
Model | PENTAX K10D |
ModifyDate (1) | 2007:05:30 14:30:58+02:00 |
ModifyDate | 2007:05:30 14:30:58 |
ParametricDarks | 0 |
ParametricHighlights | 0 |
ParametricHighlightSplit | 75 |
ParametricLights | +18 |
ParametricMidtoneSplit | 50 |
ParametricShadows | 0 |
ParametricShadowSplit | 25 |
PrivateRTKInfo | cHJpdmF0ZVJUS0luZm8gPSB7Cgl7CgkJZmxhdCA9IHsKCQl9LAoJCXBhdGggPSB7CgkJCSIxIHVpZC4gZnVnbGVyIiwKCQl9LAoJCXByaW1hcnkgPSAiMSB1aWQuIGZ1Z2xlciIsCgkJdXVpZCA9ICI1MkE5Q0M0Mi02MEI5LTREQjAtQjI5QS1FRjc3MkJEQzIxNEYiLAoJfSwKCXsKCQlmbGF0ID0gewoJCQkidXRhZ2dhIiwKCQl9LAoJCXBhdGggPSB7CgkJCSJ1dGFnZ2EiLAoJCX0sCgkJcHJpbWFyeSA9ICJ1dGFnZ2EiLAoJCXV1aWQgPSAiQ0Q3OTc5NDQtOTVDRS00QjExLTg0RUUtMzNDRDY0QzkwNzkzIiwKCX0sCn0K |
ProfileDescription | sRGB IEC61966-2.1 |
Province-State | Sogn og Fjordane |
RedHue | 0 |
RedSaturation | 0 |
Rights | Tim Alexander Øsleby |
Saturation (2) | 0 |
Saturation | Normal |
SaturationAdjustmentAqua | 0 |
SaturationAdjustmentBlue | -8 |
SaturationAdjustmentGreen | 0 |
SaturationAdjustmentMagenta | 0 |
SaturationAdjustmentOrange | 0 |
SaturationAdjustmentPurple | 0 |
SaturationAdjustmentRed | 0 |
SaturationAdjustmentYellow | 0 |
ScaleFactor35efl | 1.5 |
SceneCaptureType | Standard |
SensingMethod | One-chip color area |
Shadows | 13 |
ShadowTint | 0 |
Sharpness (2) | 76 |
Sharpness | Normal |
ShutterSpeed | 1/160 |
ShutterSpeedValue | 1/160 |
Software | K10D Ver 1.11 |
SplitToningBalance | 0 |
SplitToningHighlightHue | 0 |
SplitToningHighlightSaturation | 0 |
SplitToningShadowHue | 0 |
SplitToningShadowSaturation | 0 |
State | Sogn og Fjordane |
Sub-location | Markane |
Subject | utagga |
SubjectDistanceRange | Distant |
Tint | 0 |
ToneCurve | 0, 0, 32, 22, 64, 56, 128, 128, 192, 196, 255, 255 |
ToneCurveName | Medium Contrast |
Version | 1.0 |
Vibrance | -11 |
VignetteAmount | 0 |
WhiteBalance (2) | Custom |
WhiteBalance | Manual |