Felt | Verdi |
AlreadyApplied | True |
Artist | Cato Rusten |
BitsPerSample | 8 |
BlueHue | 0 |
BlueSaturation | 0 |
Brightness | 0 |
By-line | Cato Rusten |
CameraProfile | Embedded |
ChromaticAberrationB | 0 |
ChromaticAberrationR | 0 |
Clarity | 22 |
ColorComponents | 1 |
ColorMode | RGB |
ColorSpace (1) | Unknown (-1) |
ColorSpace | Uncalibrated |
Contrast | -8 |
ConvertToGrayscale | True |
Copyright | © 2007 by Cato Rusten |
CopyrightFlag | False |
CopyrightNotice | © 2007 by Cato Rusten |
CreateDate | 2007:09:18 18:45:50+01:00 |
Creator | Cato Rusten |
CreatorCountry | Norway |
CreatorTool | Adobe Photoshop CS3 Windows |
CreatorWorkEmail | Limaz.kriga@gmail.com |
CreatorWorkURL | http://Limaz.foto.no/ |
CropAngle | 0 |
CropBottom | 1 |
CropHeight | 5088 |
CropLeft | 0.042256 |
CropRight | 0.931352 |
CropTop | 0 |
CropUnit | pixels |
CropWidth | 7632 |
Defringe | 0 |
ExifImageHeight | 472 |
ExifImageWidth | 709 |
Exposure | +0.89 |
FillLight | 0 |
Format | image/jpeg |
GrayMixerAqua | -19 |
GrayMixerBlue | -2 |
GrayMixerGreen | -21 |
GrayMixerMagenta | +13 |
GrayMixerOrange | -11 |
GrayMixerPurple | +13 |
GrayMixerRed | -4 |
GrayMixerYellow | -12 |
GreenHue | 0 |
GreenSaturation | 0 |
HasCrop | True |
HasSettings | True |
HierarchicalSubject | Pinhole|Zeroimage |
HighlightRecovery | 0 |
ICCProfileName | ProPhoto RGB |
ImageHeight (1) | 5088 |
ImageHeight | 472 |
ImageSize | 709x472 |
ImageWidth (1) | 7632 |
ImageWidth | 709 |
IncrementalTemperature | 0 |
IncrementalTint | 0 |
Keywords | Pinhole, Zeroimage |
LuminanceSmoothing | 0 |
Megapixels | 0.335 |
ModifyDate (1) | 2007:09:18 18:45:50+01:00 |
ModifyDate | 2007:09:18 18:45:50 |
Orientation | Horizontal (normal) |
ParametricDarks | 0 |
ParametricHighlights | 0 |
ParametricHighlightSplit | 75 |
ParametricLights | -9 |
ParametricMidtoneSplit | 50 |
ParametricShadows | 0 |
ParametricShadowSplit | 25 |
ProfileDescription | ProPhoto RGB |
RedHue | 0 |
RedSaturation | 0 |
Rights | © 2007 by Cato Rusten |
Shadows | 6 |
ShadowTint | 0 |
SharpenDetail | 25 |
SharpenEdgeMasking | 0 |
SharpenRadius | +1.0 |
Sharpness | 0 |
Software | Adobe Photoshop CS3 Windows |
SplitToningBalance | 0 |
SplitToningHighlightHue | 0 |
SplitToningHighlightSaturation | 0 |
SplitToningShadowHue | 0 |
SplitToningShadowSaturation | 0 |
Subject | Pinhole, Zeroimage |
ToneCurve | 0, 0, 255, 255 |
ToneCurveName | Linear |
URL_List | |
UsageTerms | ALL RIGHTS RESERVED |
Version | 1.0 |
VignetteAmount | 0 |
WhiteBalance | As Shot |