Felt | Verdi |
AlreadyApplied | True |
Aperture | 2.6 |
ApertureValue | 2.6 |
BitsPerSample | 8 |
BlueHue | 0 |
BlueSaturation | 0 |
Brightness | -86 |
CameraProfile | Embedded |
ChromaticAberrationB | 0 |
ChromaticAberrationR | 0 |
CircleOfConfusion | 0.005 mm |
ColorComponents | 1 |
ColorMode | RGB |
ColorNoiseReduction | 0 |
ColorSpace | sRGB |
Contrast | +15 |
ConvertToGrayscale | False |
CopyrightFlag | False |
CreateDate (1) | 2008:02:07 17:59:04+01:00 |
CreateDate | 2008:01:19 11:25:26 |
CreatorTool | Adobe Photoshop CS2 Windows |
CustomRendered | Normal |
DateTimeDigitized | 2008:01:19 11:25:26+01:00 |
DateTimeOriginal (1) | 2008:01:19 11:25:26+01:00 |
DateTimeOriginal | 2008:01:19 11:25:26 |
DigitalZoomRatio | 1 |
ExifImageHeight | 672 |
ExifImageWidth | 1100 |
Exposure | 0.00 |
ExposureCompensation | 0 |
ExposureMode | Auto |
ExposureTime | 1/100 |
FillLight | 60 |
Firmware | 1.01 |
Flash | Off, Did not fire |
FlashCompensation | 0 |
FlashFired | False |
FlashFunction | False |
FlashMode | Off |
FlashRedEyeMode | False |
FlashReturn | No return detection |
FNumber | 2.6 |
FocalLength | 5.8 mm |
FocalLength35efl | 5.8 mm (35 mm equivalent: 35.1 mm) |
Format | image/jpeg |
FOV | 54.3 deg |
GreenHue | 0 |
GreenSaturation | 0 |
HasCrop | False |
HasSettings | True |
HighlightRecovery | 54 |
HueAdjustmentAqua | 0 |
HueAdjustmentBlue | 0 |
HueAdjustmentGreen | 0 |
HueAdjustmentMagenta | 0 |
HueAdjustmentOrange | 0 |
HueAdjustmentPurple | 0 |
HueAdjustmentRed | 0 |
HueAdjustmentYellow | 0 |
HyperfocalDistance | 2.61 m |
ICCProfileName | sRGB IEC61966-2.1 |
ImageHeight (1) | 1536 |
ImageHeight | 672 |
ImageSize | 1100x672 |
ImageWidth (1) | 2048 |
ImageWidth | 1100 |
IncrementalTemperature | 0 |
IncrementalTint | 0 |
ISO | 400 |
Keywords | cruise, familie |
Lens | 5.8-23.2 mm |
LensInfo | 5.8-23.2mm f/? |
LightValue | 7.4 |
LuminanceAdjustmentAqua | 0 |
LuminanceAdjustmentBlue | 0 |
LuminanceAdjustmentGreen | 0 |
LuminanceAdjustmentMagenta | 0 |
LuminanceAdjustmentOrange | 0 |
LuminanceAdjustmentPurple | 0 |
LuminanceAdjustmentRed | 0 |
LuminanceAdjustmentYellow | 0 |
LuminanceSmoothing | 0 |
Make | Canon |
MaxApertureValue | 2.6 |
Megapixels | 0.739 |
MeteringMode | Multi-segment |
Model | Canon PowerShot A570 IS |
ModifyDate (1) | 2008:02:07 17:59:04+01:00 |
ModifyDate | 2008:02:07 17:59:04 |
Orientation | Horizontal (normal) |
ParametricDarks | 0 |
ParametricHighlights | 0 |
ParametricHighlightSplit | 75 |
ParametricLights | 0 |
ParametricMidtoneSplit | 50 |
ParametricShadows | 0 |
ParametricShadowSplit | 25 |
PrivateRTKInfo | cHJpdmF0ZVJUS0luZm8gPSB7Cgl7CgkJZmxhdCA9IHsKCQkJImNydWlzZSIsCgkJfSwKCQlwYXRoID0gewoJCQkiY3J1aXNlIiwKCQl9LAoJCXByaW1hcnkgPSAiY3J1aXNlIiwKCQl1dWlkID0gIkE2MDFFRkQ3LUJGNjItNDJDOC1CQkQzLUE3RUEzRDA3QTMzRiIsCgl9LAoJewoJCWZsYXQgPSB7CgkJCSJmYW1pbGllIiwKCQl9LAoJCXBhdGggPSB7CgkJCSJmYW1pbGllIiwKCQl9LAoJCXByaW1hcnkgPSAiZmFtaWxpZSIsCgkJdXVpZCA9ICI1QkRFRUQ4MC03NDgzLTQ4QkEtQjYwNy03REE4OTcyMTkxRUIiLAoJfSwKfQo= |
ProfileDescription | sRGB IEC61966-2.1 |
RedHue | 0 |
RedSaturation | 0 |
Saturation | -100 |
SaturationAdjustmentAqua | 0 |
SaturationAdjustmentBlue | 0 |
SaturationAdjustmentGreen | 0 |
SaturationAdjustmentMagenta | 0 |
SaturationAdjustmentOrange | 0 |
SaturationAdjustmentPurple | 0 |
SaturationAdjustmentRed | 0 |
SaturationAdjustmentYellow | 0 |
ScaleFactor35efl | 6.1 |
SceneCaptureType | Standard |
SensingMethod | One-chip color area |
Shadows | 65 |
ShadowTint | 0 |
Sharpness | 0 |
ShutterSpeed | 1/100 |
ShutterSpeedValue | 1/100 |
Software | Adobe Photoshop CS2 Windows |
SplitToningBalance | 0 |
SplitToningHighlightHue | 0 |
SplitToningHighlightSaturation | 0 |
SplitToningShadowHue | 0 |
SplitToningShadowSaturation | 0 |
Subject | cruise, familie |
ToneCurve | 0, 0, 255, 255 |
ToneCurveName | Linear |
URL_List | |
Version | 1.0 |
Vibrance | -18 |
VignetteAmount | 0 |
WhiteBalance (2) | Custom |
WhiteBalance | Auto |