Felt | Verdi |
AlreadyApplied | True |
Aperture | 10.0 |
ApertureValue | 10.0 |
BitsPerSample | 8 |
BlueHue | 0 |
BlueSaturation | 0 |
Brightness | 0 |
By-line | Jarle Lunde |
CameraProfile | Embedded |
Caption-Abstract | Frå Kolbeinstveit |
ChromaticAberrationB | 0 |
ChromaticAberrationR | 0 |
Clarity | +6 |
ColorComponents | 3 |
ColorNoiseReduction | 0 |
Contrast | 0 |
ConvertToGrayscale | False |
Copyright | Jarle Lunde |
CopyrightNotice | Jarle Lunde |
Country | Norway |
Country-PrimaryLocationName | Norway |
CreateDate (1) | 2008:08:11 19:40:18+02:00 |
CreateDate | 2008:08:11 19:40:18 |
Creator | Jarle Lunde |
CreatorTool | Adobe Photoshop Lightroom |
CreatorWorkURL | www.jarlelunde.no |
CropAngle | 0 |
CropBottom | 0.960461 |
CropHeight | 673 |
CropLeft | 0.083978 |
CropRight | 1 |
CropTop | 0.062603 |
CropUnit | pixels |
CropWidth | 1024 |
DateTimeDigitized | 2008:08:11 19:40:18+02:00 |
DateTimeOriginal (1) | 2008:08:11 19:40:18+02:00 |
DateTimeOriginal | 2008:08:11 19:40:18 |
Defringe | 0 |
Description | Frå Kolbeinstveit |
ExifImageHeight | 673 |
ExifImageWidth | 1024 |
Exposure | 0.00 |
FillLight | 0 |
FNumber | 10.0 |
FocalLength | 10.0 mm |
FocalLength35efl | 10.0 mm |
GreenHue | 0 |
GreenSaturation | 0 |
HasCrop | True |
HasSettings | True |
HierarchicalSubject | HDR, Landskap|Suldal, august, kulturminne |
HighlightRecovery | 0 |
HueAdjustmentAqua | 0 |
HueAdjustmentBlue | 0 |
HueAdjustmentGreen | 0 |
HueAdjustmentMagenta | 0 |
HueAdjustmentOrange | 0 |
HueAdjustmentPurple | 0 |
HueAdjustmentRed | 0 |
HueAdjustmentYellow | 0 |
ImageDescription | Fra Kolbeinstveit |
ImageHeight | 673 |
ImageSize | 1024x673 |
ImageWidth | 1024 |
IncrementalTemperature | 0 |
IncrementalTint | 0 |
ISO | 100 |
Keywords | HDR, Landskap, Suldal, august, kulturminne |
Label | (8)SuldalFoto |
Location | Suldal kommune |
LuminanceAdjustmentAqua | 0 |
LuminanceAdjustmentBlue | 0 |
LuminanceAdjustmentGreen | 0 |
LuminanceAdjustmentMagenta | 0 |
LuminanceAdjustmentOrange | 0 |
LuminanceAdjustmentPurple | 0 |
LuminanceAdjustmentRed | 0 |
LuminanceAdjustmentYellow | 0 |
LuminanceSmoothing | 0 |
Marked | True |
Megapixels | 0.689 |
Model | NIKON D200 |
ModifyDate (1) | 2008:09:01 19:04:14+02:00 |
ModifyDate | 2008:09:01 19:04:14 |
ObjectName | Kvern |
PaintCorrectionActive | true |
PaintCorrectionAmount | 1.000000 |
PaintCorrectionBrightness | 0.000000 |
PaintCorrectionClarity (1) | 0.000000 |
PaintCorrectionClarity | 0.200000 |
PaintCorrectionContrast (2) | 0.250000 |
PaintCorrectionContrast | 0.000000 |
PaintCorrectionExposure (1) | -0.200000 |
PaintCorrectionExposure | 0.000000 |
PaintCorrectionHue | 11.000000 |
PaintCorrectionMaskCenterWeight | 0.000000 |
PaintCorrectionMaskFlow | 1.000000 |
PaintCorrectionMaskRadius (1) | 0.070235 |
PaintCorrectionMaskRadius | 0.186943 |
PaintCorrectionMaskValue | 1.000000 |
PaintCorrectionMaskWhat | Mask/Paint |
PaintCorrectionSaturation | 0.000000 |
PaintCorrectionSharpness | 0.000000 |
PaintCorrectionWhat | Correction |
ParametricDarks | -18 |
ParametricHighlights | 0 |
ParametricHighlightSplit | 75 |
ParametricLights | +10 |
ParametricMidtoneSplit | 50 |
ParametricShadows | -11 |
ParametricShadowSplit | 25 |
PostCropVignetteAmount | 0 |
ProfileDescription | sRGB IEC61966-2.1 |
Province-State | Rogaland |
Rating | 2 |
RedHue | 0 |
RedSaturation | 0 |
Rights | Jarle Lunde |
Saturation | 0 |
SaturationAdjustmentAqua | 0 |
SaturationAdjustmentBlue | 0 |
SaturationAdjustmentGreen | 0 |
SaturationAdjustmentMagenta | 0 |
SaturationAdjustmentOrange | 0 |
SaturationAdjustmentPurple | 0 |
SaturationAdjustmentRed | 0 |
SaturationAdjustmentYellow | 0 |
Shadows | 5 |
ShadowTint | 0 |
SharpenDetail | 25 |
SharpenEdgeMasking | 0 |
SharpenRadius | +1.0 |
Sharpness | 50 |
SplitToningBalance | 0 |
SplitToningHighlightHue | 0 |
SplitToningHighlightSaturation | 0 |
SplitToningShadowHue | 0 |
SplitToningShadowSaturation | 0 |
State | Rogaland |
Sub-location | Suldal kommune |
Subject | HDR, Landskap, Suldal, august, kulturminne |
Title | Kvern |
ToneCurve | 0, 0, 255, 255 |
ToneCurveName | Linear |
Version | 4.5 |
Vibrance | +5 |
VignetteAmount | 0 |
WhiteBalance | As Shot |