Felt | Verdi |
AlreadyApplied | True |
Aperture | 2.8 |
ApertureValue | 2.8 |
BitsPerSample | 8 |
BlueHue | 0 |
BlueSaturation | 0 |
Brightness | +53 |
CameraProfile | ACR 4.6 |
ChromaticAberrationB | 0 |
ChromaticAberrationR | 0 |
CircleOfConfusion | 0.019 mm |
Clarity | +98 |
ColorComponents | 3 |
ColorNoiseReduction | 12 |
ColorTemperature | 2000 |
Contrast | +100 |
ConvertToGrayscale | False |
CreateDate (1) | 2008:11:12 14:10:51.00+01:00 |
CreateDate | 2008:11:12 14:10:51 |
CreatorTool | Adobe Photoshop Lightroom |
CropAngle | 0 |
CropBottom | 0.999778 |
CropHeight | 601 |
CropLeft | 0.085186 |
CropRight | 1 |
CropTop | 0.083333 |
CropUnit | pixels |
CropWidth | 900 |
CustomRendered | Normal |
DateTimeDigitized | 2008:11:12 14:10:51.00+01:00 |
DateTimeOriginal (1) | 2008:11:12 14:10:51.00+01:00 |
DateTimeOriginal | 2008:11:12 14:10:51 |
Defringe | 0 |
ExifImageHeight | 601 |
ExifImageWidth | 900 |
Exposure | -4.00 |
ExposureCompensation | 0 |
ExposureMode | Auto |
ExposureProgram | Aperture-priority AE |
ExposureTime | 1/2500 |
FillLight | 100 |
Firmware | 1.0.1 |
Flash | Off, Did not fire |
FlashCompensation | 0 |
FlashFired | False |
FlashFunction | False |
FlashMode | Off |
FlashRedEyeMode | False |
FlashReturn | No return detection |
FNumber | 2.8 |
FocalLength | 28.0 mm |
FocalLength35efl | 28.0 mm (35 mm equivalent: 44.4 mm) |
FOV | 44.2 deg |
GradientBasedCorrActive | true |
GradientBasedCorrAmount | 1.000000 |
GradientBasedCorrBrightness | 0.000000 |
GradientBasedCorrClarity | 0.000000 |
GradientBasedCorrContrast | 0.000000 |
GradientBasedCorrExposure | -0.279621 |
GradientBasedCorrHue | 0.000000 |
GradientBasedCorrMaskFullX | 1.001740 |
GradientBasedCorrMaskFullY | 0.466042 |
GradientBasedCorrMaskValue | 1.000000 |
GradientBasedCorrMaskWhat | Mask/Gradient |
GradientBasedCorrMaskZeroX | 0.656290 |
GradientBasedCorrMaskZeroY | 0.463439 |
GradientBasedCorrSaturation | 0.000000 |
GradientBasedCorrSharpness | 0.000000 |
GradientBasedCorrWhat | Correction |
GreenHue | 0 |
GreenSaturation | 0 |
HasCrop | True |
HasSettings | True |
HighlightRecovery | 100 |
HueAdjustmentAqua | 0 |
HueAdjustmentBlue | 0 |
HueAdjustmentGreen | 0 |
HueAdjustmentMagenta | 0 |
HueAdjustmentOrange | 0 |
HueAdjustmentPurple | 0 |
HueAdjustmentRed | 0 |
HueAdjustmentYellow | 0 |
HyperfocalDistance | 14.77 m |
ImageHeight | 601 |
ImageNumber | 0 |
ImageSize | 900x601 |
ImageWidth | 900 |
ISO | 200 |
Lens | EF28mm f/1.8 USM |
LensInfo | 28mm f/? |
LightValue | 13.3 |
LuminanceAdjustmentAqua | 0 |
LuminanceAdjustmentBlue | 0 |
LuminanceAdjustmentGreen | 0 |
LuminanceAdjustmentMagenta | 0 |
LuminanceAdjustmentOrange | 0 |
LuminanceAdjustmentPurple | 0 |
LuminanceAdjustmentRed | 0 |
LuminanceAdjustmentYellow | 0 |
LuminanceSmoothing | 0 |
Make | Canon |
MaxApertureValue | 1.8 |
Megapixels | 0.541 |
MeteringMode | Center-weighted average |
Model | Canon EOS 50D |
ModifyDate (1) | 2009:02:12 22:27:42+01:00 |
ModifyDate | 2009:02:12 22:27:42 |
PaintCorrectionActive | true |
PaintCorrectionAmount | 1.000000 |
PaintCorrectionBrightness | 0.000000 |
PaintCorrectionClarity | 0.000000 |
PaintCorrectionContrast | 0.000000 |
PaintCorrectionExposure (1) | 0.327014 |
PaintCorrectionExposure | -0.279621 |
PaintCorrectionHue | 0.000000 |
PaintCorrectionMaskCenterWeight | 0.000000 |
PaintCorrectionMaskFlow | 0.300000 |
PaintCorrectionMaskRadius (1) | 0.128530 |
PaintCorrectionMaskRadius (9) | 0.117050 |
PaintCorrectionMaskRadius | 0.068829 |
PaintCorrectionMaskValue | 1.000000 |
PaintCorrectionMaskWhat | Mask/Paint |
PaintCorrectionSaturation | 0.000000 |
PaintCorrectionSharpness | 0.000000 |
PaintCorrectionWhat | Correction |
ParametricDarks | -100 |
ParametricHighlights | +100 |
ParametricHighlightSplit | 75 |
ParametricLights | +100 |
ParametricMidtoneSplit | 50 |
ParametricShadows | -100 |
ParametricShadowSplit | 25 |
PostCropVignetteAmount | 0 |
ProfileDescription | sRGB IEC61966-2.1 |
Rating | 3 |
RedHue | 0 |
RedSaturation | 0 |
Saturation | +100 |
SaturationAdjustmentAqua | 0 |
SaturationAdjustmentBlue | 0 |
SaturationAdjustmentGreen | 0 |
SaturationAdjustmentMagenta | 0 |
SaturationAdjustmentOrange | 0 |
SaturationAdjustmentPurple | 0 |
SaturationAdjustmentRed | 0 |
SaturationAdjustmentYellow | 0 |
ScaleFactor35efl | 1.6 |
SceneCaptureType | Standard |
SerialNumber | 330109335 |
Shadows | 100 |
ShadowTint | 0 |
SharpenDetail | 68 |
SharpenEdgeMasking | 68 |
SharpenRadius | +0.8 |
Sharpness | 101 |
ShutterSpeed | 1/2500 |
ShutterSpeedValue | 1/2500 |
SplitToningBalance | 0 |
SplitToningHighlightHue | 0 |
SplitToningHighlightSaturation | 0 |
SplitToningShadowHue | 0 |
SplitToningShadowSaturation | 0 |
Tint | +150 |
ToneCurve | 0, 0, 32, 22, 64, 56, 128, 128, 192, 196, 255, 255 |
ToneCurveName | Medium Contrast |
Version | 5.2 |
Vibrance | +100 |
VignetteAmount | 0 |
WhiteBalance (2) | Custom |
WhiteBalance | Auto |