Felt | Verdi |
AlreadyApplied | True |
Aperture | 9.0 |
ApertureValue | 9.0 |
BitsPerSample | 8 |
BlueHue | 0 |
BlueSaturation | 0 |
Brightness | +50 |
CameraProfile | ACR 4.4 |
CFAPattern | [Red,Green][Green,Blue] |
ChromaticAberrationB | 0 |
ChromaticAberrationR | 0 |
CircleOfConfusion | 0.020 mm |
Clarity | +100 |
ColorComponents | 3 |
ColorMode | RGB |
ColorNoiseReduction | 25 |
ColorSpace | Uncalibrated |
ColorTemperature | 6150 |
Contrast (2) | +25 |
Contrast | Normal |
ConvertToGrayscale | False |
CreateDate (1) | 2009:02:26 12:31:13.34+01:00 |
CreateDate | 2009:02:26 12:31:13 |
CreatorTool | Ver.1.00 |
CustomRendered | Normal |
DateTimeDigitized | 2009:02:26 12:31:13.34+01:00 |
DateTimeOriginal (1) | 2009:02:26 12:31:13.34+01:00 |
DateTimeOriginal | 2009:02:26 12:31:13 |
Defringe | 0 |
DigitalZoomRatio | 1 |
ExifImageHeight | 2316 |
ExifImageWidth | 3492 |
Exposure | -0.45 |
ExposureCompensation | 0 |
ExposureMode | Manual |
ExposureProgram | Manual |
ExposureTime | 1/250 |
FillLight | 0 |
Flash | No Flash |
FlashFired | False |
FlashFunction | False |
FlashMode | Unknown |
FlashRedEyeMode | False |
FlashReturn | No return detection |
FNumber | 9.0 |
FocalLength | 18.0 mm |
FocalLength35efl | 18.0 mm (35 mm equivalent: 27.0 mm) |
FocalLengthIn35mmFormat | 27 mm |
Format | image/jpeg |
FOV | 67.4 deg |
GainControl | None |
GreenHue | 0 |
GreenSaturation | 0 |
HasCrop | False |
HasSettings | True |
HighlightRecovery | 100 |
HueAdjustmentAqua | 0 |
HueAdjustmentBlue | 0 |
HueAdjustmentGreen | 0 |
HueAdjustmentMagenta | 0 |
HueAdjustmentOrange | 0 |
HueAdjustmentPurple | 0 |
HueAdjustmentRed | 0 |
HueAdjustmentYellow | 0 |
HyperfocalDistance | 1.80 m |
ICCProfileName | Adobe RGB (1998) |
ImageHeight | 2316 |
ImageNumber | 1205 |
ImageSize | 3492x2316 |
ImageWidth | 3492 |
ISO | 200 |
Lens | 18.0-105.0 mm f/3.5-5.6 |
LensInfo | 18-105mm f/3.5-5.6 |
LightSource | Unknown |
LightValue | 13.3 |
LuminanceAdjustmentAqua | 0 |
LuminanceAdjustmentBlue | 0 |
LuminanceAdjustmentGreen | 0 |
LuminanceAdjustmentMagenta | 0 |
LuminanceAdjustmentOrange | 0 |
LuminanceAdjustmentPurple | 0 |
LuminanceAdjustmentRed | 0 |
LuminanceAdjustmentYellow | 0 |
LuminanceSmoothing | 0 |
Make | NIKON CORPORATION |
MaxApertureValue | 3.5 |
Megapixels | 8.1 |
MeteringMode | Multi-segment |
Model | NIKON D300 |
ModifyDate (1) | 2009:01:18 14:47:05+01:00 |
ModifyDate | 2009:01:18 14:47:05 |
Orientation | Horizontal (normal) |
ParametricDarks | -15 |
ParametricHighlights | +15 |
ParametricHighlightSplit | 75 |
ParametricLights | +6 |
ParametricMidtoneSplit | 50 |
ParametricShadows | -13 |
ParametricShadowSplit | 25 |
PostCropVignetteAmount | 0 |
ProfileDescription | Adobe RGB (1998) |
Rating | 0 |
RawFileName | DSC_1103.NEF |
RedHue | 0 |
RedSaturation | 0 |
Saturation (2) | +40 |
Saturation | Normal |
SaturationAdjustmentAqua | 0 |
SaturationAdjustmentBlue | 0 |
SaturationAdjustmentGreen | 0 |
SaturationAdjustmentMagenta | 0 |
SaturationAdjustmentOrange | 0 |
SaturationAdjustmentPurple | 0 |
SaturationAdjustmentRed | 0 |
SaturationAdjustmentYellow | 0 |
ScaleFactor35efl | 1.5 |
SceneCaptureType | Standard |
SceneType | Directly photographed |
SensingMethod | One-chip color area |
SerialNumber | 4123027 |
Shadows | 5 |
ShadowTint | 0 |
SharpenDetail | 25 |
SharpenEdgeMasking | 0 |
SharpenRadius | +1.0 |
Sharpness (2) | 25 |
Sharpness | Normal |
ShutterSpeed | 1/250 |
ShutterSpeedValue | 1/250 |
SidecarForExtension | NEF |
Software | Adobe Photoshop CS4 Windows |
SplitToningBalance | 0 |
SplitToningHighlightHue | 0 |
SplitToningHighlightSaturation | 0 |
SplitToningShadowHue | 0 |
SplitToningShadowSaturation | 0 |
SubjectDistanceRange | Unknown |
Tint | +1 |
ToneCurve | 0, 0, 32, 22, 64, 56, 128, 128, 192, 196, 255, 255 |
ToneCurveName | Medium Contrast |
URL_List | |
Version | 5.0 |
Vibrance | +24 |
VignetteAmount | 0 |
WhiteBalance (2) | Custom |
WhiteBalance | Auto |