Felt | Verdi |
AlreadyApplied | True |
Aperture | 11.0 |
ApertureValue | 11.0 |
Artist | Pierre Chaton |
BitsPerSample | 8 |
BlackClip | 0.000000 |
BlueHue | 0 |
BlueSaturation | 0 |
Brightness (1) | -9 |
Brightness | +7 |
By-line | Pierre Chaton |
CameraProfile | Embedded |
Caption-Abstract | "... I felt something alive moving on my left Leg, which advancing gently forward over my Breast, came almost up to my Chin; when bending my Eyes downwards as much as I could, I perceived it to be a human Creature not six Inches high..." From Gulliver's Travels by Jonathan Swift Gulliver's Travels full text and audio available here. |
ChromaticAberrationB | 0 |
ChromaticAberrationR | 0 |
City | Horten |
Clarity | -24 |
ColorComponents | 3 |
ColorNoiseReduction | 46 |
ColorTemperature | 0 |
Contrast (1) | +28 |
Contrast | 0 |
ConvertToGrayscale | False |
Copyright | Pierre Chaton |
CopyrightNotice | Pierre Chaton |
Country | Norway |
Country-PrimaryLocationCode | NOR |
Country-PrimaryLocationName | Norway |
CountryCode | NOR |
CreateDate | 2007:03:22 11:02:24+01:00 |
Creator | Pierre Chaton |
CreatorTool | Adobe Photoshop Lightroom |
DateCreated (1) | 2007:03:22 |
DateCreated | 2007:03:22 11:02:24+01:00 |
DateTimeOriginal (1) | 2007:03:22 11:02:24+01:00 |
DateTimeOriginal | 2007:03:22 11:02:24 |
Defringe | 0 |
Description | "... I felt something alive moving on my left Leg, which advancing gently forward over my Breast, came almost up to my Chin; when bending my Eyes downwards as much as I could, I perceived it to be a human Creature not six Inches high..." From Gulliver's Travels by Jonathan Swift Gulliver's Travels full text and audio available here. |
ExifImageHeight | 813 |
ExifImageWidth | 850 |
Exposure | +0.24 |
ExposureTime | 1/320 |
FillLight | 23 |
FNumber | 11.0 |
FocalLength | 24.0 mm |
FocalLength35efl | 24.0 mm |
GPSDateTime | 2007:03:22 10:02:24Z |
GPSLatitude | 59 deg 22' 3.45" N |
GPSLatitudeRef | North |
GPSLongitude | 10 deg 27' 49.65" E |
GPSLongitudeRef | East |
GPSPosition | 59 deg 22' 3.45" N, 10 deg 27' 49.65" E |
GPSVersionID | 2.2.0.0 |
GradientBasedCorrActive | true |
GradientBasedCorrAmount | 1.000000 |
GradientBasedCorrBrightness (1) | -0.109000 |
GradientBasedCorrBrightness | -0.031000 |
GradientBasedCorrClarity (1) | -0.984000 |
GradientBasedCorrClarity | 0.500000 |
GradientBasedCorrContrast (1) | 0.297000 |
GradientBasedCorrContrast | 0.609000 |
GradientBasedCorrExposure (1) | 0.266000 |
GradientBasedCorrExposure | -0.109000 |
GradientBasedCorrHue | 56.000000 |
GradientBasedCorrMaskFullX (1) | 0.403845 |
GradientBasedCorrMaskFullX | 0.286047 |
GradientBasedCorrMaskFullY (1) | 0.125937 |
GradientBasedCorrMaskFullY | 0.997570 |
GradientBasedCorrMaskValue | 1.000000 |
GradientBasedCorrMaskWhat | Mask/Gradient |
GradientBasedCorrMaskZeroX (1) | 0.403845 |
GradientBasedCorrMaskZeroX | 0.310465 |
GradientBasedCorrMaskZeroY (1) | 0.322463 |
GradientBasedCorrMaskZeroY | 0.439854 |
GradientBasedCorrSaturation | 0.000000 |
GradientBasedCorrSharpness | 0.000000 |
GradientBasedCorrWhat | Correction |
GreenHue | 0 |
GreenSaturation | 0 |
HasCrop | False |
HasSettings | True |
HighlightRecovery | 23 |
HueAdjustmentAqua | 0 |
HueAdjustmentBlue | 0 |
HueAdjustmentGreen | 0 |
HueAdjustmentMagenta | 0 |
HueAdjustmentOrange | 0 |
HueAdjustmentPurple | 0 |
HueAdjustmentRed | 0 |
HueAdjustmentYellow | 0 |
ImageDescription | "... I felt something alive moving on my left Leg, which advancing gently forward over my Breast, came almost up to my Chin; when bending my Eyes downwards as much as I could, I perceived it to be a human Creature not six Inches high..." From Gulliver's Travels by Jonathan Swift Gulliver's Travels full text and audio available here. |
ImageHeight | 813 |
ImageSize | 850x813 |
ImageWidth | 850 |
IncrementalTemperature | +5 |
IncrementalTint | +6 |
ISO | 200 |
Keywords | 2009, Horten, Vestmanrød, hiver, landscape, landskap, norge, norvege, norway, paysage, vinter, winter |
LightValue | 14.2 |
Location | Vestmanrød |
LuminanceAdjustmentAqua | 0 |
LuminanceAdjustmentBlue | 0 |
LuminanceAdjustmentGreen | 0 |
LuminanceAdjustmentMagenta | 0 |
LuminanceAdjustmentOrange | 0 |
LuminanceAdjustmentPurple | 0 |
LuminanceAdjustmentRed | 0 |
LuminanceAdjustmentYellow | 0 |
LuminanceSmoothing | 77 |
Megapixels | 0.691 |
Method | Tone Compressor |
Model | NIKON D700 |
ModifyDate (1) | 2009:04:03 20:27:58+02:00 |
ModifyDate | 2009:04:03 20:27:58 |
ObjectName | A Voyage to Lilliput |
OriginalTransmissionReference | http://www.p-chaton.net/ |
PaintCorrectionActive | true |
PaintCorrectionAmount | 1.000000 |
PaintCorrectionBrightness (2) | 0.094000 |
PaintCorrectionBrightness | 0.000000 |
PaintCorrectionClarity | 0.000000 |
PaintCorrectionContrast (1) | 0.234000 |
PaintCorrectionContrast | 0.000000 |
PaintCorrectionExposure (1) | -0.219000 |
PaintCorrectionExposure (2) | 0.203000 |
PaintCorrectionExposure (3) | 0.266000 |
PaintCorrectionExposure | -0.141000 |
PaintCorrectionHue | 56.000000 |
PaintCorrectionMaskCenterWeight | 0.000000 |
PaintCorrectionMaskFlow (9) | 0.288000 |
PaintCorrectionMaskFlow | 0.714000 |
PaintCorrectionMaskRadius (11) | 0.104657 |
PaintCorrectionMaskRadius (14) | 0.143141 |
PaintCorrectionMaskRadius (16) | 0.261373 |
PaintCorrectionMaskRadius (17) | 0.077372 |
PaintCorrectionMaskRadius (6) | 0.216275 |
PaintCorrectionMaskRadius | 0.095412 |
PaintCorrectionMaskValue | 1.000000 |
PaintCorrectionMaskWhat | Mask/Paint |
PaintCorrectionSaturation | 0.000000 |
PaintCorrectionSharpness | 0.000000 |
PaintCorrectionWhat | Correction |
ParametricDarks | 0 |
ParametricHighlights | -41 |
ParametricHighlightSplit | 75 |
ParametricLights | -18 |
ParametricMidtoneSplit | 50 |
ParametricShadows | 0 |
ParametricShadowSplit | 25 |
PostCropVignetteAmount | -24 |
PostCropVignetteFeather | 95 |
PostCropVignetteMidpoint | 77 |
PostCropVignetteRoundness | -100 |
ProfileDescription | sRGB IEC61966-2.1 |
Province-State | Vestfold |
RedHue | 0 |
RedSaturation | 0 |
Rights | Pierre Chaton |
Saturation | 0 |
SaturationAdjustmentAqua | 0 |
SaturationAdjustmentBlue | 0 |
SaturationAdjustmentGreen | 0 |
SaturationAdjustmentMagenta | 0 |
SaturationAdjustmentOrange | 0 |
SaturationAdjustmentPurple | 0 |
SaturationAdjustmentRed | 0 |
SaturationAdjustmentYellow | +35 |
Shadows | 0 |
ShadowTint | 0 |
SharpenDetail | 18 |
SharpenEdgeMasking | 13 |
SharpenRadius | +0.9 |
Sharpness | 17 |
ShutterSpeed | 1/320 |
ShutterSpeedValue | 1/320 |
Software | Adobe Photoshop CS2 Windows |
SplitToningBalance | 0 |
SplitToningHighlightHue | 235 |
SplitToningHighlightSaturation | 11 |
SplitToningShadowHue | 104 |
SplitToningShadowSaturation | 10 |
State | Vestfold |
Sub-location | Vestmanrød |
Subject | 2009, Horten, Vestmanrød, hiver, landscape, landskap, norge, norvege, norway, paysage, vinter, winter |
Title | A Voyage to Lilliput |
ToneCurve | 0, 0, 255, 255 |
ToneCurveName | Linear |
TransmissionReference | http://www.p-chaton.net/ |
Version (1) | 3.1 |
Version | 5.3 |
Vibrance | 0 |
VignetteAmount | -39 |
VignetteMidpoint | 7 |
WhiteBalance | Custom |
WhiteClip | 0.000000 |