Felt | Verdi |
AlreadyApplied | True |
Aperture | 16.0 |
ApertureValue | 16.0 |
BitsPerSample | 8 |
BlueHue | 0 |
BlueSaturation | 0 |
Brightness | +16 |
CameraProfile | Adobe Standard |
ChromaticAberrationB | 0 |
ChromaticAberrationR | 0 |
CircleOfConfusion | 0.019 mm |
Clarity | 0 |
ColorComponents | 3 |
ColorMode | RGB |
ColorNoiseReduction | 88 |
ColorSpace | sRGB |
ColorTemperature | 3905 |
Contrast | +50 |
ConvertToGrayscale | False |
CreateDate (1) | 2009:08:14 19:23:53.00+02:00 |
CreateDate | 2009:08:14 19:23:53 |
CropAngle | 1.37653 |
CropBottom | 1 |
CropLeft | 0.025126 |
CropRight | 0.974874 |
CropTop | 0 |
CustomRendered | Normal |
DateTimeDigitized | 2009:08:14 19:23:53.00+02:00 |
DateTimeOriginal (1) | 2009:08:14 19:23:53.00+02:00 |
DateTimeOriginal | 2009:08:14 19:23:53 |
Defringe | 0 |
ExifImageHeight | 667 |
ExifImageWidth | 1000 |
Exposure | +3.62 |
ExposureCompensation | 0 |
ExposureMode | Manual |
ExposureProgram | Manual |
ExposureTime | 119 |
FillLight | 0 |
Firmware | 1.0.2 |
Flash | Off, Did not fire |
FlashCompensation | 0 |
FlashFired | False |
FlashFunction | False |
FlashMode | Off |
FlashRedEyeMode | False |
FlashReturn | No return detection |
FNumber | 16.0 |
FocalLength | 10.0 mm |
FocalLength35efl | 10.0 mm (35 mm equivalent: 15.8 mm) |
Format | image/jpeg |
FOV | 97.3 deg |
GradientBasedCorrActive | true |
GradientBasedCorrAmount | 1.000000 |
GradientBasedCorrBrightness | 0.000000 |
GradientBasedCorrClarity | 0.000000 |
GradientBasedCorrContrast | 0.000000 |
GradientBasedCorrExposure | -0.725000 |
GradientBasedCorrHue | 0.000000 |
GradientBasedCorrMaskFullX | 0.482405 |
GradientBasedCorrMaskFullY | -0.006593 |
GradientBasedCorrMaskValue | 1.000000 |
GradientBasedCorrMaskWhat | Mask/Gradient |
GradientBasedCorrMaskZeroX | 0.482405 |
GradientBasedCorrMaskZeroY | 0.850549 |
GradientBasedCorrSaturation | 0.000000 |
GradientBasedCorrSharpness | 0.000000 |
GradientBasedCorrWhat | Correction |
GreenHue | 0 |
GreenSaturation | 0 |
HasCrop | True |
HasSettings | True |
HierarchicalSubject | Hellestør stranden landskap |
HighlightRecovery | 0 |
HueAdjustmentAqua | 0 |
HueAdjustmentBlue | 0 |
HueAdjustmentGreen | 0 |
HueAdjustmentMagenta | 0 |
HueAdjustmentOrange | 0 |
HueAdjustmentPurple | 0 |
HueAdjustmentRed | 0 |
HueAdjustmentYellow | 0 |
HyperfocalDistance | 0.33 m |
ICCProfileName | sRGB IEC61966-2.1 |
ImageHeight | 667 |
ImageNumber | 0 |
ImageSize | 1000x667 |
ImageWidth | 1000 |
ISO | 100 |
Keywords | Hellestør stranden landskap |
Lens | EF-S10-22mm f/3.5-4.5 USM |
LensInfo | 10-22mm f/? |
LightValue | 1.1 |
LuminanceAdjustmentAqua | 0 |
LuminanceAdjustmentBlue | 0 |
LuminanceAdjustmentGreen | 0 |
LuminanceAdjustmentMagenta | 0 |
LuminanceAdjustmentOrange | 0 |
LuminanceAdjustmentPurple | 0 |
LuminanceAdjustmentRed | 0 |
LuminanceAdjustmentYellow | 0 |
LuminanceSmoothing | 100 |
Make | Canon |
MaxApertureValue | 3.5 |
Megapixels | 0.667 |
MeteringMode | Multi-segment |
Model | Canon EOS 50D |
ModifyDate (1) | 2009:08:16 23:34:54+02:00 |
ModifyDate | 2009:08:16 23:34:54 |
Orientation | Horizontal (normal) |
ParametricDarks | 0 |
ParametricHighlights | 0 |
ParametricHighlightSplit | 75 |
ParametricLights | 0 |
ParametricMidtoneSplit | 50 |
ParametricShadows | 0 |
ParametricShadowSplit | 25 |
PostCropVignetteAmount | 0 |
ProfileDescription | sRGB IEC61966-2.1 |
Rating | 0 |
RawFileName | _MG_5152.CR2 |
RedHue | 0 |
RedSaturation | 0 |
Saturation | +48 |
SaturationAdjustmentAqua | +31 |
SaturationAdjustmentBlue | 0 |
SaturationAdjustmentGreen | +100 |
SaturationAdjustmentMagenta | 0 |
SaturationAdjustmentOrange | 0 |
SaturationAdjustmentPurple | 0 |
SaturationAdjustmentRed | 0 |
SaturationAdjustmentYellow | 0 |
ScaleFactor35efl | 1.6 |
SceneCaptureType | Standard |
SerialNumber | 330223635 |
Shadows | 4 |
ShadowTint | 0 |
SharpenDetail | 25 |
SharpenEdgeMasking | 0 |
SharpenRadius | +1.0 |
Sharpness | 25 |
ShutterSpeed | 119 |
ShutterSpeedValue | 119 |
Software | Adobe Photoshop CS4 Windows |
SplitToningBalance | 0 |
SplitToningHighlightHue | 0 |
SplitToningHighlightSaturation | 0 |
SplitToningShadowHue | 0 |
SplitToningShadowSaturation | 0 |
Subject | Hellestør stranden landskap |
Tint | 0 |
ToneCurve | 0, 0, 32, 22, 64, 56, 128, 128, 192, 196, 255, 255 |
ToneCurveName | Medium Contrast |
URL_List | |
Version | 5.4 |
Vibrance | 0 |
VignetteAmount | +100 |
VignetteMidpoint | 0 |
WhiteBalance (2) | Custom |
WhiteBalance | Auto |