Felt | Verdi |
AlreadyApplied | True |
Artist | unknown |
BitsPerSample | 8 |
BlackClip | 0.000000 |
BlueHue | 0 |
BlueSaturation | 0 |
Brightness | 0 |
CameraProfile | Embedded |
ChromaticAberrationB | 0 |
ChromaticAberrationR | 0 |
Clarity | 58 |
ColorComponents | 1 |
ColorNoiseReduction | 0 |
ColorSaturation | 20 |
ColorSpace | sRGB |
ColorTemperature | 4 |
Contrast | +27 |
ConvertToGrayscale | False |
CreateDate | 2009:08:10 12:01:49+02:00 |
Creator | unknown |
CreatorTool | Adobe Photoshop Lightroom |
Defringe | 0 |
ExifImageHeight | 2336 |
ExifImageWidth | 3504 |
Exposure | +0.95 |
FillLight | 0 |
Format | image/tiff |
Gamma | 2.000000 |
GreenHue | 0 |
GreenSaturation | 0 |
HasCrop | False |
HasSettings | True |
HighlightRecovery | 100 |
HighlightsSmoothing | 0 |
HueAdjustmentAqua | 0 |
HueAdjustmentBlue | 0 |
HueAdjustmentGreen | 0 |
HueAdjustmentMagenta | 0 |
HueAdjustmentOrange | 0 |
HueAdjustmentPurple | 0 |
HueAdjustmentRed | 0 |
HueAdjustmentYellow | 0 |
ImageHeight (1) | 1333 |
ImageHeight | 665 |
ImageSize | 998x665 |
ImageWidth (1) | 2000 |
ImageWidth | 998 |
IncrementalTemperature | 0 |
IncrementalTint | 0 |
LuminanceAdjustmentAqua | 0 |
LuminanceAdjustmentBlue | 0 |
LuminanceAdjustmentGreen | 0 |
LuminanceAdjustmentMagenta | 0 |
LuminanceAdjustmentOrange | 0 |
LuminanceAdjustmentPurple | 0 |
LuminanceAdjustmentRed | 0 |
LuminanceAdjustmentYellow | 0 |
LuminanceSmoothing | 0 |
Luminosity | 10 |
Megapixels | 0.664 |
Method | Details Enhancer |
Microcontrast | 10 |
Microsmoothing | 22 |
ModifyDate (1) | 2009:08:27 00:45:36+02:00 |
ModifyDate | 2009:08:27 00:45:36 |
ParametricDarks | 0 |
ParametricHighlights | 0 |
ParametricHighlightSplit | 75 |
ParametricLights | 0 |
ParametricMidtoneSplit | 50 |
ParametricShadows | 0 |
ParametricShadowSplit | 25 |
ProfileDescription | sRGB IEC61966-2.1 |
RedHue | 0 |
RedSaturation | 0 |
Saturation | -2 |
SaturationAdjustmentAqua | 0 |
SaturationAdjustmentBlue | 0 |
SaturationAdjustmentGreen | 0 |
SaturationAdjustmentMagenta | 0 |
SaturationAdjustmentOrange | 0 |
SaturationAdjustmentPurple | 0 |
SaturationAdjustmentRed | 0 |
SaturationAdjustmentYellow | 0 |
SaturationHighlights | 3 |
SaturationShadows | 3 |
Shadows | 2 |
ShadowsClipping | 0 |
ShadowsSmoothing | 0 |
ShadowTint | 0 |
SharpenDetail | 25 |
SharpenEdgeMasking | 0 |
SharpenRadius | +1.0 |
Sharpness | 0 |
Smoothing | Very High |
Software | Adobe Photoshop Lightroom |
SplitToningBalance | 0 |
SplitToningHighlightHue | 0 |
SplitToningHighlightSaturation | 0 |
SplitToningShadowHue | 0 |
SplitToningShadowSaturation | 0 |
Strength | 100 |
ToneCurve | 0, 0, 255, 255 |
ToneCurveName | Linear |
Version (1) | 2.5 |
Version | 4.4.1 |
Vibrance | 0 |
VignetteAmount | +100 |
VignetteMidpoint | 6 |
WhiteBalance | As Shot |
WhiteClip | 5.000000 |