Felt | Verdi |
AlreadyApplied | True |
Aperture | 13.0 |
ApertureValue | 13.0 |
BitsPerSample | 8 |
BlueHue | 0 |
BlueSaturation | 0 |
Brightness | -3 |
CameraProfile | Embedded |
ChromaticAberrationB | 0 |
ChromaticAberrationR | 0 |
Clarity | 0 |
ColorComponents | 1 |
ColorNoiseReduction | 67 |
ColorNoiseReductionDetail | 50 |
Contrast | +100 |
ConvertToGrayscale | True |
CreateDate (1) | 2009:11:28 17:34:27+01:00 |
CreateDate | 2009:11:28 17:34:27 |
CreatorTool | Adobe Photoshop Lightroom |
DateTimeDigitized | 2009:11:28 17:34:27+01:00 |
DateTimeOriginal (1) | 2009:11:28 17:34:27+01:00 |
DateTimeOriginal | 2009:11:28 17:34:27 |
Defringe | 0 |
ExifImageHeight | 1800 |
ExifImageWidth | 1200 |
Exposure | +0.60 |
ExposureCompensation | -2 |
ExposureProgram | Aperture-priority AE |
ExposureTime | 20 |
FillLight | 100 |
Flash | Off, Did not fire |
FlashFired | False |
FlashFunction | False |
FlashMode | Off |
FlashRedEyeMode | False |
FlashReturn | No return detection |
FNumber | 13.0 |
FocalLength | 18.0 mm |
FocalLength35efl | 18.0 mm |
GrainAmount | 0 |
GrayMixerAqua | -12 |
GrayMixerBlue | +27 |
GrayMixerGreen | -31 |
GrayMixerMagenta | +8 |
GrayMixerOrange | -25 |
GrayMixerPurple | +29 |
GrayMixerRed | -14 |
GrayMixerYellow | -30 |
GreenHue | 0 |
GreenSaturation | 0 |
HasCrop | False |
HasSettings | True |
HighlightRecovery | 100 |
ImageHeight | 1800 |
ImageSize | 1200x1800 |
ImageWidth | 1200 |
IncrementalTemperature | +95 |
IncrementalTint | +27 |
ISO | 100 |
LightValue | 3.1 |
Make | Canon |
Megapixels | 2.2 |
MeteringMode | Multi-segment |
Model | Canon EOS 40D |
ModifyDate (1) | 2009:11:28 18:59:19+01:00 |
ModifyDate | 2009:11:28 18:59:19 |
NoiseReductionContrast | 0 |
ParametricDarks | +54 |
ParametricHighlights | -2 |
ParametricHighlightSplit | 75 |
ParametricLights | +56 |
ParametricMidtoneSplit | 50 |
ParametricShadows | +21 |
ParametricShadowSplit | 25 |
PostCropVignetteAmount | 0 |
ProfileDescription | sRGB IEC61966-2.1 |
RedHue | 0 |
RedSaturation | 0 |
RenderVersion | 5.7 |
Shadows | 0 |
ShadowTint | 0 |
SharpenDetail | 25 |
SharpenEdgeMasking | 0 |
SharpenRadius | +2.0 |
Sharpness | 13 |
ShutterSpeed | 20 |
ShutterSpeedValue | 20 |
Software | QuickTime 7.6.2 |
SplitToningBalance | 0 |
SplitToningHighlightHue | 176 |
SplitToningHighlightSaturation | 0 |
SplitToningShadowHue | 60 |
SplitToningShadowSaturation | 0 |
ToneCurve | 0, 0, 255, 255 |
ToneCurveName | Linear |
Version | 6.0 |
VignetteAmount | 0 |
WhiteBalance | Custom |