Felt | Verdi |
AlreadyApplied | True |
BitsPerSample | 8 |
BlueHue | 0 |
BlueSaturation | 0 |
Brightness | -36 |
By-line | Robert Reinlund |
CameraProfile | Embedded |
ChromaticAberrationB | 0 |
ChromaticAberrationR | 0 |
Clarity | 0 |
ColorComponents | 3 |
ColorNoiseReduction | 52 |
Contrast | +48 |
ConvertToGrayscale | False |
Copyright | Robert Reinlund |
CopyrightFlag | True |
CopyrightNotice | Robert Reinlund |
Creator | Robert Reinlund |
CreatorCity | Bergen |
CreatorCountry | Norway |
CreatorTool | Adobe Photoshop Lightroom |
CreatorWorkEmail | reinlund@gmail.com |
CreatorWorkTelephone | +47 920 940 |
CropAngle | 0 |
CropBottom | 0.989743 |
CropHeight | 3618 |
CropLeft | 0.019966 |
CropRight | 0.986688 |
CropTop | 0.010257 |
CropUnit | pixels |
CropWidth | 5503 |
Defringe | 0 |
ExifImageHeight | 3618 |
ExifImageWidth | 5503 |
Exposure | +0.29 |
FillLight | 0 |
GreenHue | 0 |
GreenSaturation | 0 |
HasCrop | True |
HasSettings | True |
HighlightRecovery | 7 |
HueAdjustmentAqua | 0 |
HueAdjustmentBlue | 0 |
HueAdjustmentGreen | 0 |
HueAdjustmentMagenta | 0 |
HueAdjustmentOrange | 0 |
HueAdjustmentPurple | 0 |
HueAdjustmentRed | 0 |
HueAdjustmentYellow | 0 |
ImageHeight | 3618 |
ImageSize | 5503x3618 |
ImageWidth | 5503 |
IncrementalTemperature | 0 |
IncrementalTint | 0 |
Keywords | Gran Canaria_Fuji Reala 100_2009, Nikon F100_Film_Coolscan 4000 |
LuminanceAdjustmentAqua | 0 |
LuminanceAdjustmentBlue | 0 |
LuminanceAdjustmentGreen | 0 |
LuminanceAdjustmentMagenta | 0 |
LuminanceAdjustmentOrange | 0 |
LuminanceAdjustmentPurple | 0 |
LuminanceAdjustmentRed | 0 |
LuminanceAdjustmentYellow | 0 |
LuminanceSmoothing | 40 |
Make | Nikon |
Marked | True |
Megapixels | 19.9 |
Model | Nikon SUPER COOLSCAN 4000 ED |
ModifyDate (1) | 2010:01:09 23:14:50+01:00 |
ModifyDate | 2010:01:09 23:14:50 |
ParametricDarks | 0 |
ParametricHighlights | 0 |
ParametricHighlightSplit | 75 |
ParametricLights | 0 |
ParametricMidtoneSplit | 50 |
ParametricShadows | 0 |
ParametricShadowSplit | 25 |
PostCropVignetteAmount | 0 |
ProfileDescription | sRGB IEC61966-2.1 |
Rating | 5 |
RedHue | 0 |
RedSaturation | 0 |
Rights | Robert Reinlund |
Saturation | +14 |
SaturationAdjustmentAqua | 0 |
SaturationAdjustmentBlue | 0 |
SaturationAdjustmentGreen | 0 |
SaturationAdjustmentMagenta | 0 |
SaturationAdjustmentOrange | 0 |
SaturationAdjustmentPurple | 0 |
SaturationAdjustmentRed | 0 |
SaturationAdjustmentYellow | 0 |
Shadows | 13 |
ShadowTint | 0 |
SharpenDetail | 25 |
SharpenEdgeMasking | 12 |
SharpenRadius | +1.0 |
Sharpness | 27 |
Software | Nikon Scan 4.0.3 W |
SplitToningBalance | 0 |
SplitToningHighlightHue | 0 |
SplitToningHighlightSaturation | 0 |
SplitToningShadowHue | 0 |
SplitToningShadowSaturation | 0 |
Subject | Gran Canaria_Fuji Reala 100_2009, Nikon F100_Film_Coolscan 4000 |
ToneCurve | 0, 0, 255, 255 |
ToneCurveName | Linear |
Version | 5.4 |
Vibrance | +33 |
VignetteAmount | 0 |
WhiteBalance | As Shot |