Felt | Verdi |
AlreadyApplied | True |
Aperture | 5.6 |
ApertureValue | 5.6 |
Artist | Christian Tiller |
BitsPerSample (1) | 16, 16, 16 |
BitsPerSample | 8 |
BlueHue | 0 |
BlueSaturation | 0 |
Brightness | +56 |
By-line | Christian Tiller |
CameraProfile | Adobe Standard |
ChromaticAberrationB | 0 |
ChromaticAberrationR | 0 |
CircleOfConfusion | 0.027 mm |
Clarity | -3 |
ColorComponents | 3 |
ColorMode | RGB |
ColorNoiseReduction | 25 |
ColorSpace | sRGB |
ColorTemperature | 7650 |
Contrast | +43 |
ConvertToGrayscale | False |
CreateDate (1) | 2010:01:08 11:44:22.37+01:00 |
CreateDate | 2010:01:08 11:44:22 |
Creator | Christian Tiller |
CustomRendered | Normal |
DateTimeDigitized | 2010:01:08 11:44:22.37+01:00 |
DateTimeOriginal (1) | 2010:01:08 11:44:22.37+01:00 |
DateTimeOriginal | 2010:01:08 11:44:22 |
Defringe | 0 |
DOF | 0.26 m (23.67 - 23.93 m) |
ExifImageHeight | 800 |
ExifImageWidth | 533 |
Exposure | 0.00 |
ExposureCompensation | +2 |
ExposureMode | Auto |
ExposureProgram | Aperture-priority AE |
ExposureTime | 1/640 |
FillLight | 0 |
Firmware | 1.0.4 |
Flash | Off, Did not fire |
FlashCompensation | 0 |
FlashFired | False |
FlashFunction | False |
FlashMode | Off |
FlashRedEyeMode | False |
FlashReturn | No return detection |
FNumber | 5.6 |
FocalLength | 800.0 mm |
FocalLength35efl | 800.0 mm (35 mm equivalent: 886.5 mm) |
Format | image/jpeg |
FOV | 2.3 deg |
GreenHue | 0 |
GreenSaturation | 0 |
HasCrop | False |
HasSettings | True |
HierarchicalSubject | bjerkreim, gådå, isfugl, januar, rogaland |
HighlightRecovery | 0 |
HueAdjustmentAqua | 0 |
HueAdjustmentBlue | 0 |
HueAdjustmentGreen | 0 |
HueAdjustmentMagenta | 0 |
HueAdjustmentOrange | 0 |
HueAdjustmentPurple | 0 |
HueAdjustmentRed | 0 |
HueAdjustmentYellow | 0 |
HyperfocalDistance | 4214.92 m |
ICCProfileName | sRGB IEC61966-2.1 |
ImageHeight (1) | 4896 |
ImageHeight | 800 |
ImageNumber | 0 |
ImageSize | 533x800 |
ImageWidth (1) | 3264 |
ImageWidth | 533 |
ISO | 1600 |
Keywords | bjerkreim, gŒdŒ, isfugl, januar, rogaland |
Lens | EF800mm f/5.6L IS USM |
LensID (1) | 249 |
LensID | Canon EF 800mm f/5.6L IS USM |
LensInfo | 800mm f/? |
LightValue | 10.3 |
LuminanceAdjustmentAqua | 0 |
LuminanceAdjustmentBlue | 0 |
LuminanceAdjustmentGreen | 0 |
LuminanceAdjustmentMagenta | 0 |
LuminanceAdjustmentOrange | 0 |
LuminanceAdjustmentPurple | 0 |
LuminanceAdjustmentRed | 0 |
LuminanceAdjustmentYellow | 0 |
LuminanceSmoothing | 0 |
Make | Canon |
MaxApertureValue | 5.7 |
Megapixels | 0.426 |
MeteringMode | Multi-segment |
Model | Canon EOS-1D Mark IV |
ModifyDate (1) | 2010:01:09 22:03:52+01:00 |
ModifyDate | 2010:01:09 22:03:52 |
Orientation | Horizontal (normal) |
ParametricDarks | 0 |
ParametricHighlights | 0 |
ParametricHighlightSplit | 75 |
ParametricLights | 0 |
ParametricMidtoneSplit | 50 |
ParametricShadows | 0 |
ParametricShadowSplit | 25 |
PhotometricInterpretation | RGB |
PlanarConfiguration | Chunky |
PostCropVignetteAmount | 0 |
ProfileDescription | sRGB IEC61966-2.1 |
Rating | 5 |
RawFileName | 20100108114.CR2 |
RedHue | 0 |
RedSaturation | 0 |
SamplesPerPixel | 3 |
Saturation | +9 |
SaturationAdjustmentAqua | 0 |
SaturationAdjustmentBlue | 0 |
SaturationAdjustmentGreen | 0 |
SaturationAdjustmentMagenta | 0 |
SaturationAdjustmentOrange | 0 |
SaturationAdjustmentPurple | 0 |
SaturationAdjustmentRed | 0 |
SaturationAdjustmentYellow | 0 |
ScaleFactor35efl | 1.1 |
SceneCaptureType | Standard |
SerialNumber | 230100514 |
Shadows | 1 |
ShadowTint | 0 |
SharpenDetail | 25 |
SharpenEdgeMasking | 0 |
SharpenRadius | +1.0 |
Sharpness | 25 |
ShutterSpeed | 1/640 |
ShutterSpeedValue | 1/640 |
SidecarForExtension | CR2 |
Software | Adobe Photoshop CS4 Macintosh |
SplitToningBalance | 0 |
SplitToningHighlightHue | 0 |
SplitToningHighlightSaturation | 0 |
SplitToningShadowHue | 0 |
SplitToningShadowSaturation | 0 |
Subject | bjerkreim, gådå, isfugl, januar, rogaland |
SubjectDistance | 23.8 m |
Tint | +1 |
ToneCurve | 0, 0, 32, 22, 64, 56, 128, 128, 192, 196, 255, 255 |
ToneCurveName | Medium Contrast |
URL_List | |
Version | 5.6 |
Vibrance | +15 |
VignetteAmount | 0 |
WhiteBalance (2) | Custom |
WhiteBalance | Auto |