Felt | Verdi |
AlreadyApplied | True |
Aperture | 1.4 |
ApertureValue | 1.4 |
BitsPerSample | 8 |
BlueHue | 0 |
BlueSaturation | 0 |
Brightness | +50 |
CameraProfile | Camera Standard |
ChromaticAberrationB | 0 |
ChromaticAberrationR | 0 |
CircleOfConfusion | 0.030 mm |
Clarity | +50 |
ColorComponents | 3 |
ColorNoiseReduction | 10 |
ColorTemperature | 3563 |
Contrast | +20 |
ConvertToGrayscale | False |
CreateDate (1) | 2009:12:31 14:45:01+01:00 |
CreateDate | 2009:12:31 14:45:01 |
CreatorTool | Adobe Photoshop Lightroom |
CropAngle | 0 |
CropBottom | 1 |
CropHeight | 746 |
CropLeft | 0 |
CropRight | 1 |
CropTop | 0.06762 |
CropUnit | pixels |
CropWidth | 1200 |
CustomRendered | Normal |
DateTimeDigitized | 2009:12:31 14:45:01+01:00 |
DateTimeOriginal (1) | 2009:12:31 14:45:01+01:00 |
DateTimeOriginal | 2009:12:31 14:45:01 |
Defringe | 0 |
ExifImageHeight | 746 |
ExifImageWidth | 1200 |
Exposure | -1.08 |
ExposureCompensation | 0 |
ExposureMode | Auto |
ExposureProgram | Aperture-priority AE |
ExposureTime | 1/8000 |
FillLight | 0 |
Firmware | 1.1.0 |
Flash | Off, Did not fire |
FlashCompensation | 0 |
FlashFired | False |
FlashFunction | False |
FlashMode | Off |
FlashRedEyeMode | False |
FlashReturn | No return detection |
FNumber | 1.4 |
FocalLength | 50.0 mm |
FocalLength35efl | 50.0 mm (35 mm equivalent: 50.1 mm) |
FOV | 39.5 deg |
GreenHue | 0 |
GreenSaturation | 0 |
HasCrop | True |
HasSettings | True |
HighlightRecovery | 78 |
HueAdjustmentAqua | 0 |
HueAdjustmentBlue | 0 |
HueAdjustmentGreen | 0 |
HueAdjustmentMagenta | 0 |
HueAdjustmentOrange | 0 |
HueAdjustmentPurple | 0 |
HueAdjustmentRed | +13 |
HueAdjustmentYellow | 0 |
HyperfocalDistance | 59.56 m |
ImageHeight | 746 |
ImageNumber | 29 |
ImageSize | 1200x746 |
ImageWidth | 1200 |
ISO | 400 |
LightValue | 11.9 |
LuminanceAdjustmentAqua | -29 |
LuminanceAdjustmentBlue | -40 |
LuminanceAdjustmentGreen | 0 |
LuminanceAdjustmentMagenta | 0 |
LuminanceAdjustmentOrange | +29 |
LuminanceAdjustmentPurple | 0 |
LuminanceAdjustmentRed | +40 |
LuminanceAdjustmentYellow | 0 |
LuminanceSmoothing | 0 |
Make | Canon |
MaxApertureValue | 1.4 |
Megapixels | 0.895 |
MeteringMode | Unknown |
Model | Canon EOS 5D |
ModifyDate (1) | 2010:06:18 23:37:14+02:00 |
ModifyDate | 2010:06:18 23:37:14 |
ParametricDarks | -5 |
ParametricHighlights | 0 |
ParametricHighlightSplit | 75 |
ParametricLights | +5 |
ParametricMidtoneSplit | 50 |
ParametricShadows | 0 |
ParametricShadowSplit | 25 |
PostCropVignetteAmount | 0 |
ProfileDescription | sRGB IEC61966-2.1 |
RedHue | 0 |
RedSaturation | 0 |
Saturation | +27 |
SaturationAdjustmentAqua | 0 |
SaturationAdjustmentBlue | +23 |
SaturationAdjustmentGreen | 0 |
SaturationAdjustmentMagenta | 0 |
SaturationAdjustmentOrange | -25 |
SaturationAdjustmentPurple | 0 |
SaturationAdjustmentRed | -31 |
SaturationAdjustmentYellow | 0 |
ScaleFactor35efl | 1.0 |
SceneCaptureType | Standard |
SerialNumber | 1531004431 |
Shadows | 13 |
ShadowTint | 0 |
SharpenDetail | 70 |
SharpenEdgeMasking | 70 |
SharpenRadius | +0.7 |
Sharpness | 100 |
ShutterSpeed | 1/8000 |
ShutterSpeedValue | 1/8000 |
SplitToningBalance | 0 |
SplitToningHighlightHue | 0 |
SplitToningHighlightSaturation | 0 |
SplitToningShadowHue | 0 |
SplitToningShadowSaturation | 0 |
Tint | 0 |
ToneCurve | 0, 0, 32, 22, 64, 56, 128, 128, 192, 196, 255, 255 |
ToneCurveName | Medium Contrast |
Version | 5.7 |
Vibrance | +25 |
VignetteAmount | 0 |
WhiteBalance (2) | Custom |
WhiteBalance | Auto |