Felt | Verdi |
AlreadyApplied | True |
Aperture | 2.8 |
ApertureValue | 2.8 |
Artist | Rolf Selvik |
BitsPerSample | 8 |
BlueHue | 0 |
BlueSaturation | 0 |
Brightness | +50 |
By-line | Rolf Selvik |
CameraProfile | Adobe Standard |
Caption-Abstract | Fugler, rovfugl, Ugler, natt |
ChromaticAberrationB | 0 |
ChromaticAberrationR | 0 |
CircleOfConfusion | 0.027 mm |
Clarity | +12 |
ColorComponents | 3 |
ColorMode | RGB |
ColorNoiseReduction | 37 |
ColorSpace | sRGB |
ColorTemperature | 7119 |
Contrast | +25 |
ConvertToGrayscale | False |
Copyright | Rolf Selvik |
CopyrightFlag | False |
CopyrightNotice | Rolf Selvik |
CreateDate (1) | 2010:09:18 13:52:55+02:00 |
CreateDate | 2010:07:13 23:00:34 |
Creator | Rolf Selvik |
CreatorTool | Adobe Photoshop CS2 Windows |
CustomRendered | Normal |
DateTimeDigitized | 2010:07:13 23:00:34.00+02:00 |
DateTimeOriginal (1) | 2010:07:13 23:00:34.00+02:00 |
DateTimeOriginal | 2010:07:13 23:00:34 |
Defringe | 0 |
Description | Fugler, rovfugl, Ugler, natt |
ExifImageHeight | 683 |
ExifImageWidth | 1024 |
Exposure | +0.36 |
ExposureCompensation | 0 |
ExposureMode | Auto |
ExposureProgram | Aperture-priority AE |
ExposureTime | 1/50 |
FillLight | 0 |
Firmware | 1.0.4 |
Flash | On, Fired |
FlashCompensation | 0 |
FlashFired | True |
FlashFunction | False |
FlashMode | On |
FlashRedEyeMode | False |
FlashReturn | No return detection |
FNumber | 2.8 |
FocalLength | 300.0 mm |
FocalLength35efl | 300.0 mm (35 mm equivalent: 332.4 mm) |
Format | image/jpeg |
FOV | 6.2 deg |
GreenHue | 0 |
GreenSaturation | 0 |
HasCrop | False |
HasSettings | True |
HighlightRecovery | 0 |
HueAdjustmentAqua | 0 |
HueAdjustmentBlue | 0 |
HueAdjustmentGreen | 0 |
HueAdjustmentMagenta | 0 |
HueAdjustmentOrange | 0 |
HueAdjustmentPurple | 0 |
HueAdjustmentRed | 0 |
HueAdjustmentYellow | 0 |
HyperfocalDistance | 1185.45 m |
ICCProfileName | sRGB IEC61966-2.1 |
ImageDescription | Fugler, rovfugl, Ugler, natt |
ImageHeight (1) | 3264 |
ImageHeight | 683 |
ImageNumber | 0 |
ImageSize | 1024x683 |
ImageWidth (1) | 4896 |
ImageWidth | 1024 |
ISO | 800 |
Lens | EF300mm f/2.8L USM |
LensID (1) | 136 |
LensID | Canon EF 300mm f/2.8L USM |
LensInfo | 300mm f/? |
LightValue | 5.6 |
LuminanceAdjustmentAqua | 0 |
LuminanceAdjustmentBlue | 0 |
LuminanceAdjustmentGreen | 0 |
LuminanceAdjustmentMagenta | 0 |
LuminanceAdjustmentOrange | 0 |
LuminanceAdjustmentPurple | 0 |
LuminanceAdjustmentRed | 0 |
LuminanceAdjustmentYellow | 0 |
LuminanceSmoothing | 32 |
Make | Canon |
MaxApertureValue | 2.8 |
Megapixels | 0.699 |
MeteringMode | Multi-segment |
Model | Canon EOS-1D Mark IV |
ModifyDate (1) | 2010:09:18 13:52:55+02:00 |
ModifyDate | 2010:09:18 13:52:55 |
ObjectName | Hubro med måke |
Orientation | Horizontal (normal) |
ParametricDarks | 0 |
ParametricHighlights | 0 |
ParametricHighlightSplit | 75 |
ParametricLights | +19 |
ParametricMidtoneSplit | 50 |
ParametricShadows | 0 |
ParametricShadowSplit | 25 |
PostCropVignetteAmount | 0 |
ProfileDescription | sRGB IEC61966-2.1 |
RedHue | 0 |
RedSaturation | 0 |
Rights | Rolf Selvik |
Saturation | 0 |
SaturationAdjustmentAqua | 0 |
SaturationAdjustmentBlue | 0 |
SaturationAdjustmentGreen | 0 |
SaturationAdjustmentMagenta | 0 |
SaturationAdjustmentOrange | 0 |
SaturationAdjustmentPurple | 0 |
SaturationAdjustmentRed | 0 |
SaturationAdjustmentYellow | 0 |
ScaleFactor35efl | 1.1 |
SceneCaptureType | Standard |
SerialNumber | 330200514 |
Shadows | 1 |
ShadowTint | 0 |
SharpenDetail | 25 |
SharpenEdgeMasking | 0 |
SharpenRadius | +1.0 |
Sharpness | 80 |
ShutterSpeed | 1/50 |
ShutterSpeedValue | 1/50 |
Software | Adobe Photoshop CS2 Windows |
SplitToningBalance | 0 |
SplitToningHighlightHue | 0 |
SplitToningHighlightSaturation | 0 |
SplitToningShadowHue | 0 |
SplitToningShadowSaturation | 0 |
Tint | +19 |
Title | Hubro med måke |
ToneCurve | 0, 0, 32, 22, 64, 56, 128, 128, 192, 196, 255, 255 |
ToneCurveName | Medium Contrast |
URL_List | |
Version | 5.6 |
Vibrance | +19 |
VignetteAmount | 0 |
WhiteBalance (2) | Custom |
WhiteBalance | Auto |