Felt | Verdi |
AlreadyApplied | True |
Aperture | 4.0 |
ApertureValue | 4.0 |
Artist | Geir A Granviken |
BitsPerSample | 8 |
BlueHue | 0 |
BlueSaturation | 0 |
Brightness | +50 |
By-line | Geir A Granviken |
CameraProfile | Adobe Standard |
Caption-Abstract | Hva slags fugl? |
ChromaticAberrationB | 0 |
ChromaticAberrationR | 0 |
CircleOfConfusion | 0.019 mm |
City | Røyken |
Clarity | 0 |
ColorComponents | 3 |
ColorNoiseReduction | 25 |
ColorNoiseReductionDetail | 50 |
ColorSpace | Uncalibrated |
ColorTemperature | 6000 |
Contrast | +25 |
ConvertToGrayscale | False |
Copyright | © 2010 Geir A Granviken |
CopyrightNotice | © 2010 Geir A Granviken |
Country | Norway |
Country-PrimaryLocationCode | NO |
Country-PrimaryLocationName | Norway |
CountryCode | NO |
CreateDate (1) | 2010:09:30 14:48:42.61 |
CreateDate | 2010:09:30 13:48:42 |
Creator | Geir A Granviken |
CreatorTool | Adobe Photoshop Lightroom |
CropAngle | 0 |
CropBottom | 0.774554 |
CropConstrainToWarp | 0 |
CropHeight | 636 |
CropLeft | 0.399801 |
CropRight | 0.760913 |
CropTop | 0.368304 |
CropUnit | pixels |
CropWidth | 848 |
CustomRendered | Normal |
DateCreated (1) | 2010:09:30 |
DateCreated | 2010:09:30 14:48:42Z |
DateTimeDigitized | 2010:09:30 13:48:42.0+1:00 |
DateTimeOriginal (1) | 2010:09:30 13:48:42.0+1:00 |
DateTimeOriginal | 2010:09:30 13:48:42 |
Defringe | 0 |
Description | Hva slags fugl? |
DOF | inf (144.05 m - inf) |
ExifImageHeight | 636 |
ExifImageWidth | 848 |
Exposure | +0.69 |
ExposureCompensation | 0 |
ExposureMode | Auto |
ExposureProgram | Aperture-priority AE |
ExposureTime | 1/3200 |
FillLight | 0 |
Firmware | 1.1.0 |
Flash | Off, Did not fire |
FlashCompensation | 0 |
FlashFired | False |
FlashFunction | False |
FlashMode | Off |
FlashRedEyeMode | False |
FlashReturn | No return detection |
FNumber | 4.0 |
FocalLength | 105.0 mm |
FocalLength35efl | 105.0 mm (35 mm equivalent: 164.9 mm) |
FOV | 12.5 deg |
GPSAltitude (1) | 152.8 m |
GPSAltitude | 152.8 m Above Sea Level |
GPSAltitudeRef | Above Sea Level |
GPSDateStamp | 2010:09:30 |
GPSDateTime (1) | 2010:09:30 13:48:42+1:00 |
GPSDateTime | 2010:09:30 13:48:42Z |
GPSLatitude (2) | 59 deg 42' 58.53" |
GPSLatitude | 59 deg 42' 58.53" N |
GPSLatitudeRef | North |
GPSLongitude (2) | 10 deg 19' 59.00" |
GPSLongitude | 10 deg 19' 59.00" E |
GPSLongitudeRef | East |
GPSMapDatum | WGS-84 |
GPSPosition | 59 deg 42' 58.53" N, 10 deg 19' 59.00" E |
GPSTimeStamp | 13:48:42 |
GPSVersionID | 2.2.0.0 |
GrainAmount | 0 |
GreenHue | 0 |
GreenSaturation | 0 |
HasCrop | True |
HasSettings | True |
HighlightRecovery | 0 |
HueAdjustmentAqua | 0 |
HueAdjustmentBlue | 0 |
HueAdjustmentGreen | 0 |
HueAdjustmentMagenta | 0 |
HueAdjustmentOrange | 0 |
HueAdjustmentPurple | 0 |
HueAdjustmentRed | 0 |
HueAdjustmentYellow | 0 |
HyperfocalDistance | 144.05 m |
ImageDescription | Hva slags fugl? |
ImageHeight | 636 |
ImageNumber | 0 |
ImageSize | 848x636 |
ImageWidth | 848 |
ISO | 400 |
Keywords | natur, fugl |
Lens | EF24-105mm f/4L IS USM |
LensID (1) | 237 |
LensID | Canon EF 24-105mm f/4L IS USM |
LensInfo | 24-105mm f/? |
LensManualDistortionAmount | 0 |
LensProfileEnable | 0 |
LensProfileSetup | LensDefaults |
LightValue | 13.6 |
Location | Hyggen |
LuminanceAdjustmentAqua | 0 |
LuminanceAdjustmentBlue | 0 |
LuminanceAdjustmentGreen | 0 |
LuminanceAdjustmentMagenta | 0 |
LuminanceAdjustmentOrange | 0 |
LuminanceAdjustmentPurple | 0 |
LuminanceAdjustmentRed | 0 |
LuminanceAdjustmentYellow | 0 |
LuminanceNoiseReductionContrast | 0 |
LuminanceNoiseReductionDetail | 50 |
LuminanceSmoothing | 15 |
Make | Canon |
MaxApertureValue | 4.0 |
Megapixels | 0.539 |
MeteringMode | Multi-segment |
Model | Canon EOS 7D |
ModifyDate (1) | 2010:10:01 22:21:02.0+1:00 |
ModifyDate | 2010:10:01 22:21:02 |
ObjectName | |
OwnerName | Geir A Granviken |
ParametricDarks | -24 |
ParametricHighlights | 0 |
ParametricHighlightSplit | 75 |
ParametricLights | -3 |
ParametricMidtoneSplit | 50 |
ParametricShadows | 0 |
ParametricShadowSplit | 25 |
PerspectiveHorizontal | 0 |
PerspectiveRotate | 0.0 |
PerspectiveScale | 100 |
PerspectiveVertical | 0 |
PostCropVignetteAmount | 0 |
ProcessVersion | 5.7 |
ProfileDescription | sRGB IEC61966-2.1 |
Province-State | Buskerud |
RedHue | 0 |
RedSaturation | 0 |
Rights | © 2010 Geir A Granviken |
Saturation | +5 |
SaturationAdjustmentAqua | 0 |
SaturationAdjustmentBlue | 0 |
SaturationAdjustmentGreen | 0 |
SaturationAdjustmentMagenta | 0 |
SaturationAdjustmentOrange | 0 |
SaturationAdjustmentPurple | 0 |
SaturationAdjustmentRed | 0 |
SaturationAdjustmentYellow | 0 |
ScaleFactor35efl | 1.6 |
SceneCaptureType | Standard |
SerialNumber | 330426024 |
Shadows | 6 |
ShadowTint | 0 |
SharpenDetail | 67 |
SharpenEdgeMasking | 67 |
SharpenRadius | +0.5 |
Sharpness | 50 |
ShutterSpeed | 1/3200 |
ShutterSpeedValue | 1/3200 |
Software | Adobe Photoshop Lightroom |
SplitToningBalance | 0 |
SplitToningHighlightHue | 0 |
SplitToningHighlightSaturation | 0 |
SplitToningShadowHue | 0 |
SplitToningShadowSaturation | 0 |
State | Buskerud |
Sub-location | Hyggen |
Subject | natur, fugl |
SubjectDistance | 4294967295 m |
SupplementalCategories | - |
Tint | +29 |
Title | |
ToneCurve | 0, 0, 32, 22, 64, 56, 128, 128, 192, 196, 255, 255 |
ToneCurveName | Medium Contrast |
UserComment | |
Version | 6.1 |
Vibrance | +25 |
VignetteAmount | 0 |
WhiteBalance (2) | As Shot |
WhiteBalance | Auto |