Felt | Verdi |
AlreadyApplied | True |
Aperture | 6.3 |
ApertureValue | 6.3 |
BitsPerSample | 8 |
BlueHue | 0 |
BlueSaturation | 0 |
Brightness | +25 |
CameraProfile | Adobe Standard |
ChromaticAberrationB | 0 |
ChromaticAberrationR | 0 |
CircleOfConfusion | 0.019 mm |
Clarity | +55 |
ColorComponents | 3 |
ColorNoiseReduction | 62 |
ColorTemperature | 6048 |
Contrast | +25 |
ConvertToGrayscale | False |
CreateDate (1) | 2011:08:13 16:17:28.46+02:00 |
CreateDate | 2011:08:13 16:17:28 |
CreatorTool | Adobe Photoshop Lightroom |
CropAngle | 0 |
CropBottom | 1 |
CropHeight | 2798 |
CropLeft | 0.126458 |
CropRight | 1 |
CropTop | 0.116787 |
CropUnit | pixels |
CropWidth | 4151 |
CustomRendered | Normal |
DateTimeDigitized | 2011:08:13 16:17:28.46+02:00 |
DateTimeOriginal (1) | 2011:08:13 16:17:28.46+02:00 |
DateTimeOriginal | 2011:08:13 16:17:28 |
Defringe | 0 |
ExifImageHeight | 2798 |
ExifImageWidth | 4151 |
Exposure | +0.38 |
ExposureCompensation | 0 |
ExposureMode | Manual |
ExposureProgram | Manual |
ExposureTime | 1/100 |
FillLight | 0 |
Firmware | 1.0.7 |
Flash (1) |
Flash (2) | Off, Did not fire |
Flash | No Flash |
FlashCompensation | 0 |
FNumber | 6.3 |
FocalLength | 105.0 mm |
FocalLength35efl | 105.0 mm (35 mm equivalent: 166.4 mm) |
FOV | 12.3 deg |
GreenHue | 0 |
GreenSaturation | 0 |
HasCrop | True |
HasSettings | True |
HighlightRecovery | 74 |
HueAdjustmentAqua | 0 |
HueAdjustmentBlue | 0 |
HueAdjustmentGreen | 0 |
HueAdjustmentMagenta | 0 |
HueAdjustmentOrange | 0 |
HueAdjustmentPurple | 0 |
HueAdjustmentRed | 0 |
HueAdjustmentYellow | 0 |
HyperfocalDistance | 92.29 m |
ImageHeight | 2798 |
ImageNumber | 0 |
ImageSize | 4151x2798 |
ImageWidth | 4151 |
ISO | 200 |
Lens | 105mm |
LensInfo | 105mm f/? |
LightValue | 11.0 |
LuminanceAdjustmentAqua | 0 |
LuminanceAdjustmentBlue | 0 |
LuminanceAdjustmentGreen | 0 |
LuminanceAdjustmentMagenta | 0 |
LuminanceAdjustmentOrange | 0 |
LuminanceAdjustmentPurple | 0 |
LuminanceAdjustmentRed | 0 |
LuminanceAdjustmentYellow | 0 |
LuminanceSmoothing | 57 |
Make | Canon |
MaxApertureValue | 2.8 |
Megapixels | 11.6 |
MeteringMode | Multi-segment |
Model | Canon EOS 50D |
ModifyDate (1) | 2011:10:16 18:16:25+02:00 |
ModifyDate | 2011:10:17 21:04:28 |
ParametricDarks | -7 |
ParametricHighlights | 0 |
ParametricHighlightSplit | 75 |
ParametricLights | +5 |
ParametricMidtoneSplit | 50 |
ParametricShadows | 0 |
ParametricShadowSplit | 25 |
PostCropVignetteAmount | -48 |
PostCropVignetteFeather | 80 |
PostCropVignetteMidpoint | 50 |
PostCropVignetteRoundness | 0 |
ProfileDescription | sRGB IEC61966-2.1 |
Rating | 2 |
RedHue | 0 |
RedSaturation | 0 |
Saturation | -10 |
SaturationAdjustmentAqua | 0 |
SaturationAdjustmentBlue | 0 |
SaturationAdjustmentGreen | -33 |
SaturationAdjustmentMagenta | 0 |
SaturationAdjustmentOrange | 0 |
SaturationAdjustmentPurple | 0 |
SaturationAdjustmentRed | 0 |
SaturationAdjustmentYellow | 0 |
ScaleFactor35efl | 1.6 |
SceneCaptureType | Standard |
SerialNumber | 1630725698 |
Shadows | 5 |
ShadowTint | 0 |
SharpenDetail | 42 |
SharpenEdgeMasking | 6 |
SharpenRadius | +0.9 |
Sharpness | 111 |
ShutterSpeed | 1/100 |
ShutterSpeedValue | 1/100 |
SplitToningBalance | 0 |
SplitToningHighlightHue | 0 |
SplitToningHighlightSaturation | 0 |
SplitToningShadowHue | 0 |
SplitToningShadowSaturation | 0 |
Tint | +21 |
ToneCurve | 0, 0, 32, 22, 64, 56, 128, 128, 192, 196, 255, 255 |
ToneCurveName | Medium Contrast |
Version | 5.3 |
Vibrance | +38 |
VignetteAmount | 0 |
WhiteBalance (2) | Custom |
WhiteBalance | Manual |