Felt | Verdi |
AlreadyApplied | True |
Aperture | 10.0 |
ApertureValue | 10.0 |
ApproximateFocusDistance | 4294967295 |
Artist | Remi Boe Presttun |
AutoLateralCA | 0 |
BitsPerSample (1) | 8 8 8 |
BitsPerSample | 8 |
Blacks2012 | 0 |
BlueHue | 0 |
BlueSaturation | 0 |
Brightness | +50 |
By-line | Remi Boe Presttun |
CameraProfile | Adobe Standard |
CFAPattern | [Red,Green][Green,Blue] |
CircleOfConfusion | 0.020 mm |
Clarity | 0 |
Clarity2012 | +32 |
ColorComponents | 3 |
ColorMode | RGB |
ColorNoiseReduction | 25 |
ColorNoiseReductionDetail | 50 |
ColorSpace | Uncalibrated |
ColorTemperature | 2800 |
Contrast (1) | +25 |
Contrast | Normal |
Contrast2012 | +3 |
ConvertToGrayscale | False |
Copyright | Remi Boe Presttun |
CopyrightNotice | Remi Boe Presttun |
CreateDate (1) | 2012:12:08 02:48 |
CreateDate | 2012:12:08 02:48:00 |
Creator | Remi Boe Presttun |
CreatorTool | Adobe Photoshop Camera Raw 7.0 (Macintosh) |
CropAngle | 0.768721 |
CropBottom | 1 |
CropConstrainToWarp | 1 |
CropLeft | 0.014166 |
CropRight | 0.985834 |
CropTop | 0 |
CustomRendered | Custom |
DateCreated (1) | 2012:12:08 |
DateCreated | 2012:12:08 02:48:00.004 |
DateTimeOriginal | 2012:12:08 02:48:00 |
Defringe | 0 |
DigitalZoomRatio | 1 |
DOF | inf (5.11 m - inf) |
ExifImageHeight | 3199 |
ExifImageWidth | 4831 |
Exposure | 0.00 |
Exposure2012 | +1.10 |
ExposureCompensation | -1/3 |
ExposureMode | Manual |
ExposureProgram | Manual |
ExposureTime | 20 |
FillLight | 0 |
Flash | Off, Did not fire |
FNumber | 10.0 |
FocalLength | 32.0 mm |
FocalLength35efl | 32.0 mm (35 mm equivalent: 48.0 mm) |
FocalLengthIn35mmFormat | 48 mm |
Format | image/jpeg |
FOV | 41.1 deg |
GainControl | None |
GrainAmount | 0 |
GreenHue | 0 |
GreenSaturation | 0 |
HasCrop | True |
HasSettings | True |
HighlightRecovery | 0 |
Highlights2012 | -51 |
HueAdjustmentAqua | 0 |
HueAdjustmentBlue | 0 |
HueAdjustmentGreen | 0 |
HueAdjustmentMagenta | 0 |
HueAdjustmentOrange | 0 |
HueAdjustmentPurple | 0 |
HueAdjustmentRed | 0 |
HueAdjustmentYellow | 0 |
HyperfocalDistance | 5.11 m |
ICCProfileName | Adobe RGB (1998) |
ImageHeight | 3199 |
ImageNumber | 45367 |
ImageSize | 4831x3199 |
ImageWidth | 4831 |
ISO | 100 |
Lens | 24.0-70.0 mm f/2.8 |
LensID (1) | 147 |
LensID | AF-S Zoom-Nikkor 24-70mm f/2.8G ED |
LensInfo | 24-70mm f/2.8 |
LensManualDistortionAmount | 0 |
LensModel | 24.0-70.0 mm f/2.8 |
LensProfileChromaticAberrationScale | 100 |
LensProfileDistortionScale | 100 |
LensProfileEnable | 1 |
LensProfileFilename | NIKON D3X (Nikon FX 24-70mm f2.8 G ED) - RAW.lcp |
LensProfileName | Adobe (Nikon AF-S NIKKOR 24-70mm f/2.8G ED) |
LensProfileSetup | Auto |
LensProfileVignettingScale | 100 |
LightSource | Unknown |
LightValue | 2.3 |
LuminanceAdjustmentAqua | 0 |
LuminanceAdjustmentBlue | 0 |
LuminanceAdjustmentGreen | 0 |
LuminanceAdjustmentMagenta | 0 |
LuminanceAdjustmentOrange | 0 |
LuminanceAdjustmentPurple | 0 |
LuminanceAdjustmentRed | 0 |
LuminanceAdjustmentYellow | 0 |
LuminanceNoiseReductionContrast | 0 |
LuminanceNoiseReductionDetail | 38 |
LuminanceSmoothing | 12 |
Make | NIKON CORPORATION |
MaxApertureValue | 2.8 |
Megapixels | 15.5 |
MeteringMode | Multi-segment |
Model | NIKON D7000 |
ModifyDate (1) | 2012:12:11 03:20:37+01:00 |
ModifyDate | 2012:12:11 03:20:37 |
Orientation | Horizontal (normal) |
ParametricDarks | 0 |
ParametricHighlights | 0 |
ParametricHighlightSplit | 75 |
ParametricLights | +10 |
ParametricMidtoneSplit | 50 |
ParametricShadows | 0 |
ParametricShadowSplit | 25 |
PerspectiveHorizontal | 0 |
PerspectiveRotate | 0.0 |
PerspectiveScale | 100 |
PerspectiveVertical | 0 |
PhotometricInterpretation | RGB |
PlanarConfiguration | Chunky |
PostCropVignetteAmount | 0 |
ProcessVersion | 6.7 |
ProfileDescription | Adobe RGB (1998) |
RawFileName | _DSC6952.NEF |
RedHue | 0 |
RedSaturation | 0 |
Rights | Remi Boe Presttun |
Saturation (1) | +10 |
Saturation | Normal |
SaturationAdjustmentAqua | +15 |
SaturationAdjustmentBlue | 0 |
SaturationAdjustmentGreen | +4 |
SaturationAdjustmentMagenta | 0 |
SaturationAdjustmentOrange | 0 |
SaturationAdjustmentPurple | 0 |
SaturationAdjustmentRed | +40 |
SaturationAdjustmentYellow | +10 |
ScaleFactor35efl | 1.5 |
SceneCaptureType | Standard |
SceneType | Directly photographed |
SensingMethod | One-chip color area |
SensitivityType | Recommended Exposure Index |
SerialNumber | 6064083 |
Shadows | 5 |
Shadows2012 | +74 |
ShadowTint | 0 |
SharpenDetail | 37 |
SharpenEdgeMasking | 18 |
SharpenRadius | +1.5 |
Sharpness (1) | 66 |
Sharpness | Normal |
ShutterSpeed | 20 |
ShutterSpeedValue | 20 |
Software | Adobe Photoshop CS6 (Macintosh) |
SplitToningBalance | 0 |
SplitToningHighlightHue | 0 |
SplitToningHighlightSaturation | 0 |
SplitToningShadowHue | 0 |
SplitToningShadowSaturation | 0 |
SubjectDistanceRange | Unknown |
Tint | +2 |
ToneCurve | 0, 0, 32, 22, 64, 56, 128, 128, 192, 196, 255, 255 |
ToneCurveBlue | 0, 0, 255, 255 |
ToneCurveGreen | 0, 0, 255, 255 |
ToneCurveName | Medium Contrast |
ToneCurveName2012 | Linear |
ToneCurvePV2012 | 0, 0, 255, 255 |
ToneCurvePV2012Blue | 0, 0, 255, 255 |
ToneCurvePV2012Green | 0, 0, 255, 255 |
ToneCurvePV2012Red | 0, 0, 255, 255 |
ToneCurveRed | 0, 0, 255, 255 |
URL_List | |
Version | 7.0 |
Vibrance | +5 |
VignetteAmount | 0 |
WhiteBalance (1) | Custom |
WhiteBalance | Auto |
Whites2012 | 0 |