Felt | Verdi |
AlreadyApplied | True |
Aperture | 7.1 |
ApertureValue | 7.1 |
ApproximateFocusDistance | 0.45 |
AutoLateralCA | 0 |
BitsPerSample | 8 |
Blacks2012 | -45 |
BlueHue | 0 |
BlueSaturation | 0 |
Brightness | 0.000000 |
CameraModelID | |
CameraProfile | Adobe Standard |
CFAPattern | [Red,Green][Green,Blue] |
CircleOfConfusion | 0.030 mm |
Clarity2012 | +14 |
ColorComponents | 3 |
ColorNoiseReduction | 25 |
ColorNoiseReductionDetail | 50 |
ColorTemperature | 5050 |
Contrast (1) | 0.000000 |
Contrast | Normal |
Contrast2012 | +24 |
ConvertToGrayscale | False |
CreateDate (1) | 2013:06:15 17:55:33.80 |
CreateDate | 2013:06:15 17:55:33 |
CreatorTool | Microsoft Windows Live Photo Gallery 15.4.3555.308 |
CropAngle | 0 |
CropBottom | 0.766272 |
CropConstrainToWarp | 0 |
CropHeight | 719 |
CropLeft | 0.317052 |
CropRight | 0.768881 |
CropTop | 0.253834 |
CropUnit | pixels |
CropWidth | 950 |
CustomRendered | Normal |
DateCreated (1) | 2013:06:15 |
DateCreated | 2013:06:15 17:55:33.80 |
DateTimeOriginal | 2013:06:15 17:55:33 |
DefringeGreenAmount | 0 |
DefringeGreenHueHi | 60 |
DefringeGreenHueLo | 40 |
DefringePurpleAmount | 0 |
DefringePurpleHueHi | 70 |
DefringePurpleHueLo | 30 |
DigitalZoomRatio | 1 |
DOF | 0.003 m (0.449 - 0.451 m) |
Exposure2012 | -0.12 |
ExposureCompensation (1) | 0.199617 |
ExposureCompensation | +4/3 |
ExposureMode | Auto |
ExposureProgram | Aperture-priority AE |
ExposureTime | 1/60 |
Flash | Off, Did not fire |
FNumber | 7.1 |
FocalLength | 150.0 mm |
FocalLength35efl | 150.0 mm (35 mm equivalent: 150.0 mm) |
FocalLengthIn35mmFormat | 150 mm |
Format | image/jpeg |
FOV | 13.7 deg |
GainControl | Low gain up |
GrainAmount | 0 |
GreenHue | 0 |
GreenSaturation | 0 |
HasCrop | True |
HasSettings | True |
Highlights2012 | -26 |
HueAdjustmentAqua | 0 |
HueAdjustmentBlue | 0 |
HueAdjustmentGreen | 0 |
HueAdjustmentMagenta | 0 |
HueAdjustmentOrange | 0 |
HueAdjustmentPurple | 0 |
HueAdjustmentRed | 0 |
HueAdjustmentYellow | 0 |
HyperfocalDistance | 105.47 m |
ImageHeight | 687 |
ImageNumber | 3720 |
ImageSize | 911x687 |
ImageWidth | 911 |
ISO | 400 |
Lens | 150.0 mm f/2.8 |
LensID (1) | 153 |
LensID | Sigma APO Macro 150mm F2.8 EX DG OS HSM |
LensInfo | 150mm f/2.8 |
LensManualDistortionAmount | 0 |
LensModel | 150.0 mm f/2.8 |
LensProfileEnable | 0 |
LensProfileSetup | LensDefaults |
LightSource | Fine Weather |
LightValue | 9.6 |
LuminanceAdjustmentAqua | 0 |
LuminanceAdjustmentBlue | 0 |
LuminanceAdjustmentGreen | 0 |
LuminanceAdjustmentMagenta | 0 |
LuminanceAdjustmentOrange | 0 |
LuminanceAdjustmentPurple | 0 |
LuminanceAdjustmentRed | 0 |
LuminanceAdjustmentYellow | 0 |
LuminanceNoiseReductionContrast | 0 |
LuminanceNoiseReductionDetail | 50 |
LuminanceSmoothing | 15 |
Make | NIKON CORPORATION |
MaxApertureValue | 4.6 |
Megapixels | 0.626 |
MeteringMode | Multi-segment |
Model | NIKON D600 |
ModifyDate (1) | 2013:06:15 21:59:27+02:00 |
ModifyDate | 2013:06:17 17:20:16 |
Orientation | Horizontal (normal) |
PaintCorrectionActive | true |
PaintCorrectionAmount | 1.000000 |
PaintCorrectionBrightness | 0.000000 |
PaintCorrectionClarity2012 | 0.000000 |
PaintCorrectionContrast2012 | 0.000000 |
PaintCorrectionDefringe | 0.000000 |
PaintCorrectionExposure2012 | -0.080500 |
PaintCorrectionHighlights2012 | -0.241380 |
PaintCorrectionHue | 50.000000 |
PaintCorrectionLuminanceNoise | 0.000000 |
PaintCorrectionMaskCenterWeight | 0.036352 |
PaintCorrectionMaskFlow | 1.000000 |
PaintCorrectionMaskRadius | 0.025840 |
PaintCorrectionMaskValue | 1.000000 |
PaintCorrectionMaskWhat | Mask/Paint |
PaintCorrectionMoire | 0.195400 |
PaintCorrectionSaturation (1) | -0.057470 |
PaintCorrectionSaturation | 0.000000 |
PaintCorrectionShadows2012 | 0.000000 |
PaintCorrectionSharpness | 0.000000 |
PaintCorrectionTemperature | 0.000000 |
PaintCorrectionTint | 0.000000 |
PaintCorrectionWhat | Correction |
ParametricDarks | 0 |
ParametricHighlights | 0 |
ParametricHighlightSplit | 75 |
ParametricLights | 0 |
ParametricMidtoneSplit | 50 |
ParametricShadows | 0 |
ParametricShadowSplit | 25 |
PerspectiveHorizontal | 0 |
PerspectiveRotate | 0.0 |
PerspectiveScale | 100 |
PerspectiveVertical | 0 |
PipelineVersion | 01.00 |
PostCropVignetteAmount | 0 |
ProcessVersion | 6.7 |
ProfileDescription | sRGB IEC61966-2.1 |
RedHue | 0 |
RedSaturation | 0 |
Saturation (1) | 0 |
Saturation | Normal |
SaturationAdjustmentAqua | 0 |
SaturationAdjustmentBlue | 0 |
SaturationAdjustmentGreen | 0 |
SaturationAdjustmentMagenta | 0 |
SaturationAdjustmentOrange | 0 |
SaturationAdjustmentPurple | 0 |
SaturationAdjustmentRed | 0 |
SaturationAdjustmentYellow | 0 |
ScaleFactor35efl | 1.0 |
SceneCaptureType | Standard |
SceneType | Directly photographed |
SensingMethod | One-chip color area |
SensitivityType | Recommended Exposure Index |
SerialNumber | 6063306 |
Shadows2012 | +5 |
ShadowTint | 0 |
SharpenDetail | 30 |
SharpenEdgeMasking | 0 |
SharpenRadius | +1.0 |
Sharpness (1) | 40 |
Sharpness | Hard |
ShutterSpeed | 1/60 |
ShutterSpeedValue | 1/60 |
Software | Adobe Photoshop Lightroom 4.3 (Windows) |
SplitToningBalance | 0 |
SplitToningHighlightHue | 0 |
SplitToningHighlightSaturation | 0 |
SplitToningShadowHue | 0 |
SplitToningShadowSaturation | 0 |
StreamType | 3 |
SubjectDistanceRange | Unknown |
Tint | +4 |
ToneCurveName2012 | Linear |
ToneCurvePV2012 | 0, 0, 255, 255 |
ToneCurvePV2012Blue | 0, 0, 255, 255 |
ToneCurvePV2012Green | 0, 0, 255, 255 |
ToneCurvePV2012Red | 0, 0, 255, 255 |
Version | 7.3 |
Vibrance | +5 |
VignetteAmount | 0 |
WhiteBalance (1) | As Shot |
WhiteBalance | Manual |
WhiteBalance0 | 2.497562 |
WhiteBalance1 | 1.000000 |
WhiteBalance2 | 1.051616 |
Whites2012 | +38 |